BEGIN:VCALENDAR
VERSION:2.0
PRODID:-//wp-events-plugin.com//7.2.3.1//EN
TZID:America/New_York
X-WR-TIMEZONE:America/New_York
BEGIN:VEVENT
UID:156388@kingstonhappenings.org
DTSTART;TZID=America/New_York:20260425T100000
DTEND;TZID=America/New_York:20260425T160000
DTSTAMP:20260420T141008Z
URL:https://kingstonhappenings.org/events/art-yard-sale-2/
SUMMARY:Art Yard Sale
DESCRIPTION:Join the Midtown Kingston Arts District and The DRAW for our an
 nual Art Yard Sale—and help us kick off the 5th Annual Eco Arts Week—o
 n Saturday\, April 25\, from 10 AM–4 PM!\nBrowse a treasure trove of new
  and gently used art supplies\, from drawing and painting materials to une
 xpected creative finds. Whether you’re a seasoned artist\, a student\, o
 r just getting started\, there’s something here to spark your creativity
 .\n Opening Day of Eco Arts Week\n Everything is pay-what-you-can\n All
  proceeds support free and low-cost arts programming\n\nDonate to our Art 
 Yard Sale!\nWe're looking for gently used art supplies\, tools\, fabric\, 
 paper\, and other creative materials to give them a second life in the han
 ds of fellow artists and crafters!\nWhat We Love to Receive: Paints\, brus
 hes\, canvases\, and easels Fabric\, yarn\, and sewing supplies Sketchbook
 s\, specialty papers\, and cardstock Beads\, wire\, and jewelry-making too
 ls Printmaking\, sculpture\, and mixed media supplies\nWhat We Can’t Acc
 ept: Picture frames No books or DVDs Single-use plastics or disposable ite
 ms General recyclables (bottles\, containers\, packaging) Broken or unusab
 le materials Hazardous or toxic supplies Wish-cycling\nWe want to keep thi
 s a treasure trove for makers—not a drop-off spot for difficult-to-dispo
 se-of items. Thank you for donating with intention and helping us create a
  space filled with inspiration.\nDonations accepted at the Neighborhood Pr
 int Studio\, between noon and 5 pm\, Tuesday - Saturday. Deadline for dona
 tions is April 24\, 2026
ATTACH;FMTTYPE=image/jpeg:https://kingstonhappenings.org/wp-content/upload
 s/2026/04/656883756_1387175686778719_4630114134889245156_n.jpg
CATEGORIES:@Featured,@Newsletter,Art,For kids,Nightlife and entertainment
LOCATION:Neighborhood Print Studio\, 49 Greenkill Avenue\, Kingston\, NY\, 
 12401\, United Kingdom
GEO:41.927819;-74.004441
X-APPLE-STRUCTURED-LOCATION;VALUE=URI;X-ADDRESS=49 Greenkill Avenue\, Kings
 ton\, NY\, 12401\, United Kingdom;X-APPLE-RADIUS=100;X-TITLE=Neighborhood 
 Print Studio:geo:41.927819,-74.004441
END:VEVENT
BEGIN:VTIMEZONE
TZID:America/New_York
X-LIC-LOCATION:America/New_York
BEGIN:DAYLIGHT
DTSTART:20260308T030000
TZOFFSETFROM:-0500
TZOFFSETTO:-0400
TZNAME:EDT
END:DAYLIGHT
END:VTIMEZONE
END:VCALENDAR