BEGIN:VCALENDAR
VERSION:2.0
PRODID:-//wp-events-plugin.com//7.2.3.1//EN
TZID:America/New_York
X-WR-TIMEZONE:America/New_York
BEGIN:VEVENT
UID:150437@kingstonhappenings.org
DTSTART;TZID=America/New_York:20250920T120000
DTEND;TZID=America/New_York:20250921T170000
DTSTAMP:20250922T150134Z
URL:https://kingstonhappenings.org/events/art-walk-kingston/
SUMMARY:Art Walk Kingston
DESCRIPTION:September 20 &amp\; 21 Saturday and Sunday 12-5pm. Our 10th yea
 r! Art Walk Kingston is a celebration of the arts and the local community.
  Over the course of two days\, visitors and local residents are invited to
  explore three distinct areas of the city of Kingston and immerse themselv
 es in a range of art and events. Paintings\, photographs and sculptures ar
 e just some of the mediums that will be on display at home studios and gal
 leries. Our past events average over 150 artists at dozens of locations th
 roughout the city\, making this event one of the largest open studio tours
  in the Hudson River Valley. Whether you have a few hours or a full day\, 
 the event weekend will offer a broad range of art and activities for every
 one.
ATTACH;FMTTYPE=image/jpeg:https://kingstonhappenings.org/wp-content/upload
 s/2025/06/537191586_792117579851505_5980059004612306417_n.jpg
CATEGORIES:@Featured,@Newsletter,Art,Festivals and major community
 events,Nightlife and entertainment,Sports and recreation
LOCATION:Kingston\, NY\, 1 FakeStreetNameSoCheckDetail\, Kingston\, NY\, 12
 401\, United States
GEO:41.9270367;-73.99736080000002
X-APPLE-STRUCTURED-LOCATION;VALUE=URI;X-ADDRESS=1 FakeStreetNameSoCheckDeta
 il\, Kingston\, NY\, 12401\, United States;X-APPLE-RADIUS=100;X-TITLE=King
 ston\, NY:geo:41.9270367,-73.99736080000002
END:VEVENT
BEGIN:VTIMEZONE
TZID:America/New_York
X-LIC-LOCATION:America/New_York
BEGIN:DAYLIGHT
DTSTART:20250309T030000
TZOFFSETFROM:-0500
TZOFFSETTO:-0400
TZNAME:EDT
END:DAYLIGHT
END:VTIMEZONE
END:VCALENDAR