BEGIN:VCALENDAR
VERSION:2.0
PRODID:-//wp-events-plugin.com//7.2.3.1//EN
TZID:America/New_York
X-WR-TIMEZONE:America/New_York
BEGIN:VEVENT
UID:143079@kingstonhappenings.org
DTSTART;TZID=America/New_York:20241014T183000
DTEND;TZID=America/New_York:20241019T200000
DTSTAMP:20241014T132243Z
URL:https://kingstonhappenings.org/event-recurring/art-practice-and-conver
 sation/
SUMMARY:Art Practice and Conversation
DESCRIPTION:Maintaining an art practice takes just that: practice! This wee
 kly self-guided class offers space\, structure\, and a wide variety of mat
 erials for artists to experiment and expand upon their personal body of wo
 rk. Participants will guide the conversation and direction of the class--c
 reating a local community for artists to work\, engage in critical dialogu
 e\, and grow together with their peers.\n\nEach class will begin with the 
 presentation and examination of a piece of contemporary art\, followed by 
 independent studio time\, and ending with a facilitated feedback session. 
 All levels and disciplines are welcome!\n\n-------------------------------
 ----------\n\nPlease register at least a week in advance to guarantee your
  spot.\n\n-----------------------------------------\n\nWe believe in acces
 s to art education for all. Please pay what you can to support this acces
 s for all of our community. If you would like to use a scholarship code th
 ey are listed on our website.\n\n&nbsp\;\n\n6 Tuesdays\nOct 15\, 22\, 29\,
  Nov 5\, 12\, 19\n6:30 - 8 pm\n\nAges 16+
CATEGORIES:@Featured,Art
LOCATION:Midtown Kingston Arts District and the D.R.A.W.\, 20 Cedar Street\
 , Kingston\, NY\, 12401\, United States
GEO:41.928545;-74.004206
X-APPLE-STRUCTURED-LOCATION;VALUE=URI;X-ADDRESS=20 Cedar Street\, Kingston\
 , NY\, 12401\, United States;X-APPLE-RADIUS=100;X-TITLE=Midtown Kingston A
 rts District and the D.R.A.W.:geo:41.928545,-74.004206
END:VEVENT
BEGIN:VTIMEZONE
TZID:America/New_York
X-LIC-LOCATION:America/New_York
BEGIN:DAYLIGHT
DTSTART:20240310T030000
TZOFFSETFROM:-0500
TZOFFSETTO:-0400
TZNAME:EDT
END:DAYLIGHT
END:VTIMEZONE
END:VCALENDAR