BEGIN:VCALENDAR
VERSION:2.0
PRODID:-//wp-events-plugin.com//7.2.3.1//EN
TZID:America/New_York
X-WR-TIMEZONE:America/New_York
BEGIN:VEVENT
UID:156362@kingstonhappenings.org
DTSTART;TZID=America/New_York:20260517T120000
DTEND;TZID=America/New_York:20260517T170000
DTSTAMP:20260420T130323Z
URL:https://kingstonhappenings.org/events/art-explorations-2026-05-02-2026
 -05-03-2026-05-09-2026-05-10-2026-05-16-2026-05-17/
SUMMARY:Art Explorations
DESCRIPTION:First Friday Reception &amp\; Opening: Friday\, May 1\, 5-7pm\n
 On View May 1- 17\, 2026\nSaturday &amp\; Sunday 12-5 PM\n\nEach ear\, the
  Athens Cultural Center teams up with the Coxsackie-Athens Central School 
 District to celebrate the extraordinary artistic talents of our young peop
 le. This exhibition is about more than just displaying art\; it’s a hear
 tfelt celebration of creativity\, resilience\, and the power of self-expre
 ssion. Working across mediums\, each piece tells a unique story\, sparking
  conversations and revealing the immense potential of our next generation.
 \n\nACC is thrilled to continue our collaboration with the district’s pa
 ssionate art educators as curators of this show\, and we are filled with g
 ratitude for the love\, care\, and effort that they put into their work fo
 r our community. By welcoming students and families from across the region
 \, we work to ensure that every child\, regardless of their background or 
 access to traditional art spaces\, has the opportunity to shine.\n\nWhen w
 e invest in young artists\, we invest in the future of our communities. By
  nurturing these creative voices\, we are building a more inclusive\, vibr
 ant\, and inspiring future—one masterpiece at a time.
ATTACH;FMTTYPE=image/jpeg:https://kingstonhappenings.org/wp-content/upload
 s/2026/04/CASD.jpg
CATEGORIES:@Featured,Art,For kids
LOCATION:Athens Cultural Center\, 24 Second St.\, Athens\, NY\, United Stat
 es
GEO:42.26042;-73.809144
X-APPLE-STRUCTURED-LOCATION;VALUE=URI;X-ADDRESS=24 Second St.\, Athens\, NY
 \, United States;X-APPLE-RADIUS=100;X-TITLE=Athens Cultural Center:geo:42.
 26042,-73.809144
END:VEVENT
BEGIN:VTIMEZONE
TZID:America/New_York
X-LIC-LOCATION:America/New_York
BEGIN:DAYLIGHT
DTSTART:20260308T030000
TZOFFSETFROM:-0500
TZOFFSETTO:-0400
TZNAME:EDT
END:DAYLIGHT
END:VTIMEZONE
END:VCALENDAR