BEGIN:VCALENDAR
VERSION:2.0
PRODID:-//wp-events-plugin.com//7.2.3.1//EN
TZID:America/New_York
X-WR-TIMEZONE:America/New_York
BEGIN:VEVENT
UID:152626@kingstonhappenings.org
DTSTART;TZID=America/New_York:20251206T190000
DTEND;TZID=America/New_York:20251206T200000
DTSTAMP:20251201T191452Z
URL:https://kingstonhappenings.org/events/ars-choralis-presents-welcome-yu
 le-holiday-sampler/
SUMMARY:Ars Choralis presents "Welcome Yule: Holiday Sampler"
DESCRIPTION:On December 6 and 7\, 2025\, Ars Choralis presents Holiday Samp
 ler\, a concert weaving holiday music and traditions developed in the Amer
 ican colonies with the sacred Christmas music of Europe. Joining us will b
 e the Hudson Valley Youth Brass Ensemble led by Harvey Boyer. This program
  leads off our 2025–26 season which celebrates the 250th anniversary of 
 the signing of the Declaration of Independence through our distinctive len
 s focusing on the many rich and diverse cultures that represent America.
ATTACH;FMTTYPE=image/jpeg:https://kingstonhappenings.org/wp-content/upload
 s/2025/11/AC-at-Maverick.jpg
CATEGORIES:@Featured,@Newsletter,Music
LOCATION:Holy Cross/Santa Cruz Church\, 30 Pine Grove Ave\, Kingston\, New 
 York\, 12401\, United States
GEO:41.926792;-74.000307
X-APPLE-STRUCTURED-LOCATION;VALUE=URI;X-ADDRESS=30 Pine Grove Ave\, Kingsto
 n\, New York\, 12401\, United States;X-APPLE-RADIUS=100;X-TITLE=Holy Cross
 /Santa Cruz Church:geo:41.926792,-74.000307
END:VEVENT
BEGIN:VTIMEZONE
TZID:America/New_York
X-LIC-LOCATION:America/New_York
BEGIN:STANDARD
DTSTART:20251102T010000
TZOFFSETFROM:-0400
TZOFFSETTO:-0500
TZNAME:EST
END:STANDARD
END:VTIMEZONE
END:VCALENDAR