BEGIN:VCALENDAR
VERSION:2.0
PRODID:-//wp-events-plugin.com//7.2.3.1//EN
TZID:America/New_York
X-WR-TIMEZONE:America/New_York
BEGIN:VEVENT
UID:152628@kingstonhappenings.org
DTSTART;TZID=America/New_York:20251231T180000
DTEND;TZID=America/New_York:20251231T190000
DTSTAMP:20251229T165019Z
URL:https://kingstonhappenings.org/events/ars-choralis-presents-a-quilt-of
 -courage/
SUMMARY:Ars Choralis Presents "A Quilt of Courage"
DESCRIPTION:Ars Choralis will present a free New Year’s Eve choral concer
 t in partnership with the City of Kingston and Old Dutch Church. Inspired 
 by the lives of Hudson Valley people who changed the course of history in 
 this country we celebrate their selfless dedication to improving the lives
  of others. We will collect cash donations to benefit People’s Place of 
 Kingston.
ATTACH;FMTTYPE=image/jpeg:https://kingstonhappenings.org/wp-content/upload
 s/2025/11/AC-at-Maverick-2.jpg
CATEGORIES:@Featured,@Newsletter,Festivals and major community
 events,Music
LOCATION:Old Dutch Church\, 272 Wall St\, Kingston\, NY\, 12401\, United St
 ates
GEO:41.932863;-74.018839
X-APPLE-STRUCTURED-LOCATION;VALUE=URI;X-ADDRESS=272 Wall St\, Kingston\, NY
 \, 12401\, United States;X-APPLE-RADIUS=100;X-TITLE=Old Dutch Church:geo:4
 1.932863,-74.018839
END:VEVENT
BEGIN:VTIMEZONE
TZID:America/New_York
X-LIC-LOCATION:America/New_York
BEGIN:STANDARD
DTSTART:20251102T010000
TZOFFSETFROM:-0400
TZOFFSETTO:-0500
TZNAME:EST
END:STANDARD
END:VTIMEZONE
END:VCALENDAR