BEGIN:VCALENDAR
VERSION:2.0
PRODID:-//wp-events-plugin.com//7.2.3.1//EN
TZID:America/New_York
X-WR-TIMEZONE:America/New_York
BEGIN:VEVENT
UID:156077@kingstonhappenings.org
DTSTART;TZID=America/New_York:20260404T170000
DTEND;TZID=America/New_York:20260404T210000
DTSTAMP:20260330T235719Z
URL:https://kingstonhappenings.org/events/aperire-a-springtime-art-show/
SUMMARY:APERIRE: A Springtime Art Show
DESCRIPTION:Aperire is a Latin verb commonly cited as the root of the month
  name April (referring to the opening of buds/flowers in Spring). Meaning 
 "to open\," "uncover\," or "reveal"\n\nStop by The Lace Mill on Saturday\,
  April 4th from 5 to 9pm for the Opening Reception of APERIRE\, A Spring T
 ime Art Show featuring the artists:\n\nGülnar Babayeva - Edward Berkise -
  Stuart Bigley - Patt Blue -  Nancy Catandella -  JW Cornbroom. -  Carl
  Cox - Ron DeNitto - Freya DeNitto - Laurie DiFalco -  Ben Eichert -  St
 aats Fasoldt  - Stacie Flint - Kristin Flynn - Nancy Graham - George Habe
 rnig - Lanette Kristin Hughes - Anki King- Dakota Lane - Marsha Massih - W
 ilma Miller\, Cynthia Oxford - April Oxford - Alisza Phillips - Christophe
 r Seubert - Aleksandra Scepanovic. - Lisa Spiros -  Pam Timmins - John Va
 rriano and MORE!  \n\nApril 4th to April 26th\n\nOpening on Saturday Apr
 il 4th from 5 to 9pm      
ATTACH;FMTTYPE=image/jpeg:https://kingstonhappenings.org/wp-content/upload
 s/2026/03/GalleryFlyerApril2026-1-scaled.jpg
CATEGORIES:@Featured,@Newsletter,Art
LOCATION:The Lace Mill\, 165 Cornell St.\, Kingston\, New York\, 12401\, Un
 ited States
GEO:41.934636;-73.99857700000001
X-APPLE-STRUCTURED-LOCATION;VALUE=URI;X-ADDRESS=165 Cornell St.\, Kingston\
 , New York\, 12401\, United States;X-APPLE-RADIUS=100;X-TITLE=The Lace Mil
 l:geo:41.934636,-73.99857700000001
END:VEVENT
BEGIN:VTIMEZONE
TZID:America/New_York
X-LIC-LOCATION:America/New_York
BEGIN:DAYLIGHT
DTSTART:20260308T030000
TZOFFSETFROM:-0500
TZOFFSETTO:-0400
TZNAME:EDT
END:DAYLIGHT
END:VTIMEZONE
END:VCALENDAR