BEGIN:VCALENDAR
VERSION:2.0
PRODID:-//wp-events-plugin.com//7.2.3.1//EN
TZID:America/New_York
X-WR-TIMEZONE:America/New_York
BEGIN:VEVENT
UID:156342@kingstonhappenings.org
DTSTART;TZID=America/New_York:20260606T100000
DTEND;TZID=America/New_York:20260606T120000
DTSTAMP:20260418T195344Z
URL:https://kingstonhappenings.org/events/annual-esopus-community-5k-fun-r
 un-walk/
SUMMARY:Annual Esopus Community 5K Fun Run/Walk
DESCRIPTION:Join us for our annual family fun run at Maple Ridge Bruderhof.
  This is a 5k suitable for all levels of runners and walkers. Refreshments
 \, Tshirts and prizes. Registration information on Eventbrite or day of ev
 ent. Registration opens 8:30am https://www.eventbrite.com/e/annual-esopus
 -community-5k-fun-run-and-walk-tickets-1987330401729?utm-campaign=social&a
 mp\;utm-content=attendeeshare&amp\;utm-medium=discovery&amp\;utm-term=list
 ing&amp\;utm-source=cp&amp\;aff=ebdsshcopyurl&amp\;fbclid=IwY2xjawRQthpleH
 RuA2FlbQIxMABicmlkETFDWTRVc09iN1ZFZjVuSTE3c3J0YwZhcHBfaWQQMjIyMDM5MTc4ODIw
 MDg5MgABHuECfOrgX_bfzPLFdnaEP4nUxuQdX4Ds9WV8c1n94Fk923MoqjXDzkPunCz__aem_P
 HkqK7Osa-Hmnf0vhqBL9Q
ATTACH;FMTTYPE=image/jpeg:https://kingstonhappenings.org/wp-content/upload
 s/2026/04/Screenshot-2026-04-18-155212.png
CATEGORIES:@Featured,Community,Festivals and major community events,Sports
 and recreation
LOCATION:Maple Ridge Community\, 10 Hellbrook Ln\, Town of Esopus\, NY\, 12
 487\, United States
GEO:41.857025;-73.98353
X-APPLE-STRUCTURED-LOCATION;VALUE=URI;X-ADDRESS=10 Hellbrook Ln\, Town of E
 sopus\, NY\, 12487\, United States;X-APPLE-RADIUS=100;X-TITLE=Maple Ridge 
 Community:geo:41.857025,-73.98353
END:VEVENT
BEGIN:VTIMEZONE
TZID:America/New_York
X-LIC-LOCATION:America/New_York
BEGIN:DAYLIGHT
DTSTART:20260308T030000
TZOFFSETFROM:-0500
TZOFFSETTO:-0400
TZNAME:EDT
END:DAYLIGHT
END:VTIMEZONE
END:VCALENDAR