BEGIN:VCALENDAR
VERSION:2.0
PRODID:-//wp-events-plugin.com//7.2.3.1//EN
TZID:America/New_York
X-WR-TIMEZONE:America/New_York
BEGIN:VEVENT
UID:153151@kingstonhappenings.org
DTSTART;TZID=America/New_York:20251220T120000
DTEND;TZID=America/New_York:20251220T120000
DTSTAMP:20251222T135246Z
URL:https://kingstonhappenings.org/events/annual-cookie-walk-and-craft-sal
 e/
SUMMARY:Annual Cookie Walk and Craft Sale
DESCRIPTION:Doors open for crafts at 12:00 NoonCookie walks begins at 1:00P
 M sharp! Not sooner\, nor later.Pictures with Santa!Purchase your favorite
  homemade Christmas cookies\, peruse and purchase homemade crafts and Chri
 stmas gifts.
ATTACH;FMTTYPE=image/jpeg:https://kingstonhappenings.org/wp-content/upload
 s/2025/12/586379112_1269493328539302_7582702800088629981_n.jpg
CATEGORIES:@Featured,@Newsletter,Community,Market
LOCATION:Reform Church of the Comforter\, 26 Wynkoop Place\, Kingston\, NY\
 , 12401\, United States
GEO:41.9299802;-73.99356460000001
X-APPLE-STRUCTURED-LOCATION;VALUE=URI;X-ADDRESS=26 Wynkoop Place\, Kingston
 \, NY\, 12401\, United States;X-APPLE-RADIUS=100;X-TITLE=Reform Church of 
 the Comforter:geo:41.9299802,-73.99356460000001
END:VEVENT
BEGIN:VTIMEZONE
TZID:America/New_York
X-LIC-LOCATION:America/New_York
BEGIN:STANDARD
DTSTART:20251102T010000
TZOFFSETFROM:-0400
TZOFFSETTO:-0500
TZNAME:EST
END:STANDARD
END:VTIMEZONE
END:VCALENDAR