BEGIN:VCALENDAR
VERSION:2.0
PRODID:-//wp-events-plugin.com//7.2.3.1//EN
TZID:America/New_York
X-WR-TIMEZONE:America/New_York
BEGIN:VEVENT
UID:151845@kingstonhappenings.org
DTSTART;TZID=America/New_York:20250921T120000
DTEND;TZID=America/New_York:20250921T120000
DTSTAMP:20250916T002738Z
URL:https://kingstonhappenings.org/events/annual-chicken-bbq-fundraiser/
SUMMARY:Annual Chicken BBQ & Fundraiser
DESCRIPTION:Join the Rotary of Kingston Sunday September 21st\,2025 from 12
 :00 PM - 3:00 PM as we celebrate our Annual Chicken BBQ &amp\; Fundraiser.
 \nLocated at Kingston Rotary Point Park and welcome to all ages to include
  Pets!.The event will have activities for the entire family to include Liv
 e Music &amp\; Entertainment\, Local Exhibitors and More.\nThe Donation is
  $20.00 and includes the items below:1/2 BBQ Grilled ChickenCorn on the Co
 bColeslawGerman Potato SaladDessertBeverage(Additional vegetarian options 
 available)\nLIVE MUSIC for your listening pleasure!\n*When making payment 
 via PayPal\, please select (Chicken BBQ) in drop down.
ATTACH;FMTTYPE=image/jpeg:https://kingstonhappenings.org/wp-content/upload
 s/2025/09/543426105_1194613492701939_4365166724482792009_n.jpg
CATEGORIES:@Featured,@Newsletter,Community,Festivals and major community
 events
LOCATION:Kingston Point Rotary Park\, 1 Delaware Ave\, Kingston\, NY\, 1240
 1\, United States
GEO:41.92826549999999;-73.9626366
X-APPLE-STRUCTURED-LOCATION;VALUE=URI;X-ADDRESS=1 Delaware Ave\, Kingston\,
  NY\, 12401\, United States;X-APPLE-RADIUS=100;X-TITLE=Kingston Point Rota
 ry Park:geo:41.92826549999999,-73.9626366
END:VEVENT
BEGIN:VTIMEZONE
TZID:America/New_York
X-LIC-LOCATION:America/New_York
BEGIN:DAYLIGHT
DTSTART:20250309T030000
TZOFFSETFROM:-0500
TZOFFSETTO:-0400
TZNAME:EDT
END:DAYLIGHT
END:VTIMEZONE
END:VCALENDAR