BEGIN:VCALENDAR
VERSION:2.0
PRODID:-//wp-events-plugin.com//7.2.3.1//EN
TZID:America/New_York
X-WR-TIMEZONE:America/New_York
BEGIN:VEVENT
UID:153356@kingstonhappenings.org
DTSTART;TZID=America/New_York:20260109T190000
DTEND;TZID=America/New_York:20260109T190000
DTSTAMP:20260112T125319Z
URL:https://kingstonhappenings.org/events/andrea-maddox-and-the-hey-yalls-
 w-sweet-petunia/
SUMMARY:Andrea Maddox and the Hey Y'alls w/ Sweet Petunia
DESCRIPTION:Andrea Maddox and the Hey Y’alls is a six piece\, female fron
 ted honky tonk band living and playing in the Hudson Valley of Upstate New
  York. Andrea’s Tennessee upbringing comes through her songs as she chan
 nels the legendary women of classic country music while connecting to her 
 audiences with the timeless themes of love and heartbreak. With plenty of 
 tunes for two-stepping and waltzing\, The Hey Y’alls bring a lively danc
 e vibe to the party. The Hey Y’alls have been featured at the O+ Festiva
 l\, the Ashokan Center\, Skinny Dennis Brooklyn\, The Colony Woodstock\, T
 ubby’s and many other venues in and around New York.https://andreamaddox
 andtheheyyalls.com/\nSWEET PETUNIASweet Petunia\, composed of Mairead Guy 
 and Maddy Simpson\, is an alt-folk duo based in Boston. Over the last five
  years\, the duo has grown into their own as both powerful songwriters and
  harmonizers as well as lightning-quick players\, beginning every set with
  explosive double banjo action. Unapologetically queer and unafraid to get
  loud and angry\, they craft music that is informed just as much by their 
 contemporaries in Boston’s punk &amp\; DIY scene as it is steeped in ric
 h folk tradition.https://www.sweetpetuniaband.com/
ATTACH;FMTTYPE=image/jpeg:https://kingstonhappenings.org/wp-content/upload
 s/2026/01/595920720_1506431897949034_1203725575150064410_n.jpg
CATEGORIES:@Featured,@Newsletter,Music,Nightlife and entertainment
LOCATION:Colony Woodstock NY\, 22 Rock City Rd\, Woodstock\, New York\, Uni
 ted States
GEO:42.0424924;-74.11799489999999
X-APPLE-STRUCTURED-LOCATION;VALUE=URI;X-ADDRESS=22 Rock City Rd\, Woodstock
 \, New York\, United States;X-APPLE-RADIUS=100;X-TITLE=Colony Woodstock NY
 :geo:42.0424924,-74.11799489999999
END:VEVENT
BEGIN:VTIMEZONE
TZID:America/New_York
X-LIC-LOCATION:America/New_York
BEGIN:STANDARD
DTSTART:20251102T010000
TZOFFSETFROM:-0400
TZOFFSETTO:-0500
TZNAME:EST
END:STANDARD
END:VTIMEZONE
END:VCALENDAR