BEGIN:VCALENDAR
VERSION:2.0
PRODID:-//wp-events-plugin.com//7.2.3.1//EN
TZID:America/New_York
X-WR-TIMEZONE:America/New_York
BEGIN:VEVENT
UID:152641@kingstonhappenings.org
DTSTART;TZID=America/New_York:20251114T200000
DTEND;TZID=America/New_York:20251114T220000
DTSTAMP:20251110T140047Z
URL:https://kingstonhappenings.org/events/and-then-there-were-none-2025-11
 -14/
SUMMARY:And Then There Were None
DESCRIPTION:And Then There Were None is Agatha Christie’s dramatic adapta
 tion of her best-selling\, and most-chilling novel. Ten strangers are summ
 oned to a remote island. All that the guests have in common is a wicked pa
 st they’re unwilling to reveal and a secret that will seal their fate…
  for each has been marked for murder. When the weather cuts them off from 
 the mainland one by one\, the guests are killed in accordance with a sinis
 ter nursery rhyme. They must find the killer if they hope to survive.\nDir
 ected by Emily DePew with assistant direction by Justin Doro.\nThe cast fe
 atures Joe Bongiorno\, Michael Britt\, Tom Bunker\, David Foster\, Lucas H
 opper\, Morgan McKinley\, Lindsay Moravec\, David Shakopi\, Thom Webb\, We
 ndy Urban-Mead\, &amp\; Elaine Young.\nRecommended for ages 13+\nContent W
 arning: This production contains themes of death\, grief\, and guilt. It a
 lso contains references to and depictions of murder\, manslaughter\, and s
 uicide by hanging.\nSensory Warning: This production utilizes gunshot soun
 ds and flashing lights.\n\n\nCENTERstage Productions\nAnd Then There Were 
 NoneBy Agatha Christie\nNovember 7–23\, 2025Fridays at 8PMSaturday\, 11/
 8 at 8PM\; Saturdays\, 11/15 &amp\; 11/22 at 3PMSundays at 3PM\nTickets $2
 5\n
ATTACH;FMTTYPE=image/jpeg:https://kingstonhappenings.org/wp-content/upload
 s/2025/11/542115781_1424858882974432_5775495777702574546_n.jpg
CATEGORIES:@Featured,Nightlife and entertainment,Theater
LOCATION:Center for Performing Arts at Rhinebeck\, \, 
X-APPLE-STRUCTURED-LOCATION;VALUE=URI;X-ADDRESS=\, ;X-APPLE-RADIUS=100;X-TI
 TLE=Center for Performing Arts at Rhinebeck:geo:0,0
END:VEVENT
BEGIN:VTIMEZONE
TZID:America/New_York
X-LIC-LOCATION:America/New_York
BEGIN:STANDARD
DTSTART:20251102T010000
TZOFFSETFROM:-0400
TZOFFSETTO:-0500
TZNAME:EST
END:STANDARD
END:VTIMEZONE
END:VCALENDAR