BEGIN:VCALENDAR
VERSION:2.0
PRODID:-//wp-events-plugin.com//7.2.3.1//EN
TZID:America/New_York
X-WR-TIMEZONE:America/New_York
BEGIN:VEVENT
UID:152122@kingstonhappenings.org
DTSTART;TZID=America/New_York:20251029T190000
DTEND;TZID=America/New_York:20251029T200000
DTSTAMP:20251029T115308Z
URL:https://kingstonhappenings.org/events/an-apple-a-day-the-apples-of-the
 -hudson-valley/
SUMMARY:An Apple a Day: The Apples of the Hudson Valley
DESCRIPTION:Join Kevin Clark from Rose Hill Farm as he discusses the import
 ance and uniqueness of the apple\, the genetic diversity which apples hold
 \, as well as the importance of preserving that diversity. You will learn 
 how apples have traveled around the world and the importance of apples in 
 the Hudson Valley. Each variety of apple has a story\, rich in humanity an
 d culture. A collection of over 100 types of apples will also be on displa
 y during the lecture. The Follow the River lecture series is sponsored by 
 Rondout Savings Bank.
CATEGORIES:@Featured,@Newsletter
LOCATION:Hudson River Maritime Museum\, 50 Rondout Landing\, Kingston\, NY\
 , 12401\, United States
GEO:41.91886;-73.980984
X-APPLE-STRUCTURED-LOCATION;VALUE=URI;X-ADDRESS=50 Rondout Landing\, Kingst
 on\, NY\, 12401\, United States;X-APPLE-RADIUS=100;X-TITLE=Hudson River Ma
 ritime Museum:geo:41.91886,-73.980984
END:VEVENT
BEGIN:VTIMEZONE
TZID:America/New_York
X-LIC-LOCATION:America/New_York
BEGIN:DAYLIGHT
DTSTART:20250309T030000
TZOFFSETFROM:-0500
TZOFFSETTO:-0400
TZNAME:EDT
END:DAYLIGHT
END:VTIMEZONE
END:VCALENDAR