BEGIN:VCALENDAR
VERSION:2.0
PRODID:-//wp-events-plugin.com//7.2.3.1//EN
TZID:America/New_York
X-WR-TIMEZONE:America/New_York
BEGIN:VEVENT
UID:152004@kingstonhappenings.org
DTSTART;TZID=America/New_York:20250928T170000
DTEND;TZID=America/New_York:20250928T190000
DTSTAMP:20250922T145215Z
URL:https://kingstonhappenings.org/events/amy-laber-kenny-roby/
SUMMARY:Amy Laber & Kenny Roby
DESCRIPTION:Colony Woodstock Presents: Music on The PatioJoin us for an eve
 ning of traditional American folk and old time harmonies!Featuring: Amy La
 ber &amp\; Kenny RobySunday\, September 28Gates 5pm | Music 5:30-8pm
ATTACH;FMTTYPE=image/jpeg:https://kingstonhappenings.org/wp-content/upload
 s/2025/09/550096977_1433421215250103_7205885164282944386_n.jpg
CATEGORIES:@Featured,@Newsletter,Music,Nightlife and entertainment
LOCATION:Colony Woodstock NY\, 22 Rock City Rd\, Woodstock\, New York\, Uni
 ted States
GEO:42.0424924;-74.11799489999999
X-APPLE-STRUCTURED-LOCATION;VALUE=URI;X-ADDRESS=22 Rock City Rd\, Woodstock
 \, New York\, United States;X-APPLE-RADIUS=100;X-TITLE=Colony Woodstock NY
 :geo:42.0424924,-74.11799489999999
END:VEVENT
BEGIN:VTIMEZONE
TZID:America/New_York
X-LIC-LOCATION:America/New_York
BEGIN:DAYLIGHT
DTSTART:20250309T030000
TZOFFSETFROM:-0500
TZOFFSETTO:-0400
TZNAME:EDT
END:DAYLIGHT
END:VTIMEZONE
END:VCALENDAR