BEGIN:VCALENDAR
VERSION:2.0
PRODID:-//wp-events-plugin.com//7.2.3.1//EN
TZID:America/New_York
X-WR-TIMEZONE:America/New_York
BEGIN:VEVENT
UID:152435@kingstonhappenings.org
DTSTART;TZID=America/New_York:20251101T200000
DTEND;TZID=America/New_York:20251101T220000
DTSTAMP:20251029T115323Z
URL:https://kingstonhappenings.org/events/ame-the-lady-slipper-present-reb
 ellious-burlesque-fierce-freaky-no-fucks/
SUMMARY:Ame &amp\; The Lady Slipper present - Rebellious Burlesque: Fierce\
 , Freaky\, No Fucks
DESCRIPTION:Join us for a night of Rebellious Burlesque on Saturday\, No
 vember 1st\, at the Unicorn Bar in Kingston\, NY.\nStep into a night of
  unapologetic burlesque\, drag\, music\, and storytelling where the tricks
  are dirty and the treats are bold. Local and regional performers will sho
 ck\, seduce\, and strip in a spectacle of raw power and wild abandon.\n\n\
 nPresented by Ame and The Lady Slipper\, this two-hour ritual of rebellion
  invites you to release\, rage\, and revel in the freedom of bodily autono
 my. We honor the freaks\, the ferocity\, and the fearless parts in all of 
 us.\n\n\n\n\nCome costumed or just come weird! Let go\, rage out\, and rev
 el in the grotesque\, the gorgeous\, and the gloriously inappropriate. No 
 fucks given—just feral freedom and fierce performances!\n\nDetails:\n&#x
 1f378\;Bar opens at 5 PM for snacks &amp\; libations\n&#x1f6aa\;Doors at 
 7 PM | &#x1f3ad\; Show at 8 PM\n&#x1f4b3\;$25 in advance | $30 at the door
 \n&#x1f4cd\;Unicorn Bar\, 224 Foxhall Ave\, Kingston\, NY\n&#x1f51e\;21+ 
 only\n&#x1f4b8\;Bring cash to tip the revolutionary performers and enter 
 our raffle for wicked prizes.\n\nFeaturing performances by:\n&#x1f3a4\;Ame
  (host &amp\; vocalist)\n&#x2620\;&#xfe0f\;The Lady Slipper (Burlesque)\
 n&#x1f460\;Ella Blu (Burlesque)\n&#x1f399\;&#xfe0f\;Professor M (Sing &a
 mp\; Strip)\n&#x1f987\;JackieLynn (Drag)\n&#x26b0\;&#xfe0f\;Carrie Phoeni
 x (Burlesque)\n&#x1faa6\;Diana Dysentery (Kitten)\n&#x1f3a7\;DJ Xeon\n\n
ATTACH;FMTTYPE=image/jpeg:https://kingstonhappenings.org/wp-content/upload
 s/2025/10/111-Rebellious-45-1920-x-1080-px.png
CATEGORIES:@Featured,@Newsletter,Art,Comedy,Community,Dance,Music,Nightlif
 e and entertainment,Theater
LOCATION:Unicorn Bar\, 224 Foxhall Ave.\, KINGSTON\, NY\, 12401\, United St
 ates
GEO:41.933684;-73.996845
X-APPLE-STRUCTURED-LOCATION;VALUE=URI;X-ADDRESS=224 Foxhall Ave.\, KINGSTON
 \, NY\, 12401\, United States;X-APPLE-RADIUS=100;X-TITLE=Unicorn Bar:geo:4
 1.933684,-73.996845
END:VEVENT
BEGIN:VTIMEZONE
TZID:America/New_York
X-LIC-LOCATION:America/New_York
BEGIN:DAYLIGHT
DTSTART:20250309T030000
TZOFFSETFROM:-0500
TZOFFSETTO:-0400
TZNAME:EDT
END:DAYLIGHT
END:VTIMEZONE
END:VCALENDAR