BEGIN:VCALENDAR
VERSION:2.0
PRODID:-//wp-events-plugin.com//7.2.3.1//EN
TZID:America/New_York
X-WR-TIMEZONE:America/New_York
BEGIN:VEVENT
UID:151852@kingstonhappenings.org
DTSTART;TZID=America/New_York:20251019T191500
DTEND;TZID=America/New_York:20251019T191500
DTSTAMP:20250916T130039Z
URL:https://kingstonhappenings.org/events/ambient-church-hudson-valley/
SUMMARY:Ambient Church Hudson Valley
DESCRIPTION:Ambient Church is an experiential event series dedicated to wor
 king with artists to bring new ecologies to architecturally unique spaces 
 through audiovisual performance. By pairing visionary artists with stunnin
 g architectural settings and projection-mapped light\, Ambient Church crea
 tes transcendent nights of sound and space.
ATTACH;FMTTYPE=image/jpeg:https://kingstonhappenings.org/wp-content/upload
 s/2025/09/547439445_1074830944818518_3924809582586529023_n.jpg
CATEGORIES:@Featured,@Newsletter,Music,Nightlife and entertainment
LOCATION:Old Dutch Church\, 272 Wall St\, Kingston\, NY\, 12401\, United St
 ates
GEO:41.932863;-74.018839
X-APPLE-STRUCTURED-LOCATION;VALUE=URI;X-ADDRESS=272 Wall St\, Kingston\, NY
 \, 12401\, United States;X-APPLE-RADIUS=100;X-TITLE=Old Dutch Church:geo:4
 1.932863,-74.018839
END:VEVENT
BEGIN:VTIMEZONE
TZID:America/New_York
X-LIC-LOCATION:America/New_York
BEGIN:DAYLIGHT
DTSTART:20250309T030000
TZOFFSETFROM:-0500
TZOFFSETTO:-0400
TZNAME:EDT
END:DAYLIGHT
END:VTIMEZONE
END:VCALENDAR