BEGIN:VCALENDAR
VERSION:2.0
PRODID:-//wp-events-plugin.com//7.2.3.1//EN
TZID:America/New_York
X-WR-TIMEZONE:America/New_York
BEGIN:VEVENT
UID:155801@kingstonhappenings.org
DTSTART;TZID=America/New_York:20260313T200000
DTEND;TZID=America/New_York:20260313T200000
DTSTAMP:20260309T130407Z
URL:https://kingstonhappenings.org/events/almost-queen-a-tribute-to-queen/
SUMMARY:Almost Queen: A Tribute to QUEEN
DESCRIPTION:They don’t just pay tribute to the legendary band\, Almost Qu
 een transports you back in time to experience the magic and essence of Que
 en themselves. This deliberate four piece band is “guaranteed to blow yo
 ur mind” with iconic four-part harmonies and expertly executed musical i
 nterludes. Almost Queen’s impressive tribute to Queen is nothing short o
 f breathtaking. The band’s authenticity shines through in their impeccab
 le attention to detail and genuine costumes\, while their live energy and 
 precision will leave music fans of all ages with an unforgettable concert 
 experience.\n\nAlmost Queen’s concerts are a true testament to the band
 ’s love for Queen’s music. Fans often travel long distances just to ex
 perience Almost Queen’s carefully curated setlist featuring Queen’s be
 st-loved songs\, like “Somebody to Love\,” “Don’t Stop Me Now\,”
  “Fat Bottomed Girls\,” and “Radio Ga Ga.” Almost Queen occasional
 ly plays some lesser-known album tracks\, such as “Flash\,” “Spread 
 Your Wings\,” “Love of My Life\,” as well as other hidden gems. And 
 of course\, no Queen tribute concert would be complete without classics li
 ke “Bohemian Rhapsody\,” “We Will Rock You\,” and “We Are the Ch
 ampions!” It’s no wonder fans keep coming back for more\, attending ag
 ain and again to experience the music of Queen in a manner that only Almos
 t Queen delivers.\n\nWITH SUPPORT BY: Super 70’s Rock Show featuring Sup
 er Trans Am is a high-energy\, immersive concert experience that brings th
 e sights\, sounds\, and spirit of the 1970s roaring back to life. Featurin
 g powerhouse musicianship\, multiple lead vocalists\, and state-of-the-art
  A/V production\, the show delivers nonstop arena anthems and radio favori
 tes from legends like The Eagles\, Queen\, Journey\, and more—making 
 it the perfect feel-good\, singalong night for audiences of all ages.
ATTACH;FMTTYPE=image/jpeg:https://kingstonhappenings.org/wp-content/upload
 s/2026/03/3.13.26-almost-queen-990x792-1.jpg
CATEGORIES:@Featured,@Newsletter,Music,Nightlife and entertainment
LOCATION:Ulster Performing Arts Center (UPAC)\, 601 Broadway\, Kingston\, N
 ew York\, 12401\, United States
GEO:41.92931799999999;-74.004142
X-APPLE-STRUCTURED-LOCATION;VALUE=URI;X-ADDRESS=601 Broadway\, Kingston\, N
 ew York\, 12401\, United States;X-APPLE-RADIUS=100;X-TITLE=Ulster Performi
 ng Arts Center (UPAC):geo:41.92931799999999,-74.004142
END:VEVENT
BEGIN:VTIMEZONE
TZID:America/New_York
X-LIC-LOCATION:America/New_York
BEGIN:DAYLIGHT
DTSTART:20260308T030000
TZOFFSETFROM:-0500
TZOFFSETTO:-0400
TZNAME:EDT
END:DAYLIGHT
END:VTIMEZONE
END:VCALENDAR