BEGIN:VCALENDAR
VERSION:2.0
PRODID:-//wp-events-plugin.com//7.2.3.1//EN
TZID:America/New_York
X-WR-TIMEZONE:America/New_York
BEGIN:VEVENT
UID:156011@kingstonhappenings.org
DTSTART;TZID=America/New_York:20260328T110000
DTEND;TZID=America/New_York:20260328T160000
DTSTAMP:20260330T133812Z
URL:https://kingstonhappenings.org/events/all-was-done-by-hand/
SUMMARY:All Was Done by Hand
DESCRIPTION:Save the date: March 28\, 2026!! Here's a pic from this year's 
 gathering. Kingston City Hall Council Chamber.
ATTACH;FMTTYPE=image/jpeg:https://kingstonhappenings.org/wp-content/upload
 s/2026/03/656149007_122193140852786731_7856650467869523253_n-e177454243757
 1.jpg
CATEGORIES:@Featured,@Newsletter,Community,History
LOCATION:Kingston City Hall\, 420 Broadway\, Kingston\, NY\, 12401\, United
  States
GEO:41.927142;-73.99617
X-APPLE-STRUCTURED-LOCATION;VALUE=URI;X-ADDRESS=420 Broadway\, Kingston\, N
 Y\, 12401\, United States;X-APPLE-RADIUS=100;X-TITLE=Kingston City Hall:ge
 o:41.927142,-73.99617
END:VEVENT
BEGIN:VTIMEZONE
TZID:America/New_York
X-LIC-LOCATION:America/New_York
BEGIN:DAYLIGHT
DTSTART:20260308T030000
TZOFFSETFROM:-0500
TZOFFSETTO:-0400
TZNAME:EDT
END:DAYLIGHT
END:VTIMEZONE
END:VCALENDAR