BEGIN:VCALENDAR
VERSION:2.0
PRODID:-//wp-events-plugin.com//7.2.3.1//EN
TZID:America/New_York
X-WR-TIMEZONE:America/New_York
BEGIN:VEVENT
UID:152039@kingstonhappenings.org
DTSTART;TZID=America/New_York:20250927T193000
DTEND;TZID=America/New_York:20250927T193000
DTSTAMP:20250922T202445Z
URL:https://kingstonhappenings.org/events/alexis-p-suter-band-the-falcon/
SUMMARY:Alexis P. Suter Band @ The Falcon
DESCRIPTION:3 time Blues Music Award nominee Alexis P. Suter is the owner
  of that big\, booming voice you can hear roaring out of Brooklyn into the
  heart of the North America and beyond. The Alexis P. Suter Band are on 
 the rise as accolades pour in and they continue to captivate audiences fro
 m town to town.
ATTACH;FMTTYPE=image/jpeg:https://kingstonhappenings.org/wp-content/upload
 s/2025/09/download.webp
CATEGORIES:@Featured,@Newsletter,Music,Nightlife and entertainment
LOCATION:The Falcon\, 1348 Route 9W\, Marlboro\, NY\, United States
GEO:41.6061213;-73.97065420000001
X-APPLE-STRUCTURED-LOCATION;VALUE=URI;X-ADDRESS=1348 Route 9W\, Marlboro\, 
 NY\, United States;X-APPLE-RADIUS=100;X-TITLE=The Falcon:geo:41.6061213,-7
 3.97065420000001
END:VEVENT
BEGIN:VTIMEZONE
TZID:America/New_York
X-LIC-LOCATION:America/New_York
BEGIN:DAYLIGHT
DTSTART:20250309T030000
TZOFFSETFROM:-0500
TZOFFSETTO:-0400
TZNAME:EDT
END:DAYLIGHT
END:VTIMEZONE
END:VCALENDAR