BEGIN:VCALENDAR
VERSION:2.0
PRODID:-//wp-events-plugin.com//7.2.3.1//EN
TZID:America/New_York
X-WR-TIMEZONE:America/New_York
BEGIN:VEVENT
UID:153099@kingstonhappenings.org
DTSTART;TZID=America/New_York:20251213T170000
DTEND;TZID=America/New_York:20251213T200000
DTSTAMP:20251209T220345Z
URL:https://kingstonhappenings.org/events/albi-beluli-live/
SUMMARY:Albi Beluli LIVE
DESCRIPTION:\n\nDelicious food. Craft beverages. Great Vibes. Dog-friendly.
  Family friendly.\n\n\nOpen 12-9\nMusic 5-8\n(Kitchen closes 1 hr before c
 losing time)\nStay tuned on our latest offerings by following @rmv_cellars
  &amp\;@greatlifebrewingatrmv &amp\;  joining our mailing list here!\n&nb
 sp\;\n
ATTACH;FMTTYPE=image/jpeg:https://kingstonhappenings.org/wp-content/upload
 s/2025/12/RMV-CELLAR-GENERAL-900X1600.png
CATEGORIES:@Featured,@Newsletter,Music
LOCATION:RMV Cellars\, 112 Burroughs Drive\, Esopus\, NY\, 12401\, United S
 tates
GEO:41.783753;-73.962551
X-APPLE-STRUCTURED-LOCATION;VALUE=URI;X-ADDRESS=112 Burroughs Drive\, Esopu
 s\, NY\, 12401\, United States;X-APPLE-RADIUS=100;X-TITLE=RMV Cellars:geo:
 41.783753,-73.962551
END:VEVENT
BEGIN:VTIMEZONE
TZID:America/New_York
X-LIC-LOCATION:America/New_York
BEGIN:STANDARD
DTSTART:20251102T010000
TZOFFSETFROM:-0400
TZOFFSETTO:-0500
TZNAME:EST
END:STANDARD
END:VTIMEZONE
END:VCALENDAR