BEGIN:VCALENDAR
VERSION:2.0
PRODID:-//wp-events-plugin.com//7.2.3.1//EN
TZID:America/New_York
X-WR-TIMEZONE:America/New_York
BEGIN:VEVENT
UID:155819@kingstonhappenings.org
DTSTART;TZID=America/New_York:20260313T193000
DTEND;TZID=America/New_York:20260313T193000
DTSTAMP:20260309T170335Z
URL:https://kingstonhappenings.org/events/albert-lee/
SUMMARY:Albert Lee
DESCRIPTION:With Opening Act: The Cryers\nAlbert Lee has played with everyo
 ne from Jerry Lee Lewis to Eric Clapton\, to the Everly Brothers to Emmylo
 u Harris. He was a member of The Crickets in the post-Buddy Holly era\, an
 d forged an impressive solo career along the way.\n“The ultimate virtuos
 o. His skill is extraordinary\, his ear is extraordinary and he’s gifted
  on just about every level.” - Eric Clapton\n"When Saint Peter asks me t
 o chronicle my time down here on earth\, I'll be able to say - with pride 
 if that's allowed - that for a while I played rhythm guitar in a band with
  Albert Lee." - Emmylou Harris
ATTACH;FMTTYPE=image/jpeg:https://kingstonhappenings.org/wp-content/upload
 s/2026/03/594057054_1264854082343528_1160418315170950427_n.jpg
CATEGORIES:@Featured,@Newsletter,Music,Nightlife and entertainment
LOCATION:The Falcon\, 1348 Route 9W\, Marlboro\, NY\, United States
GEO:41.6061213;-73.97065420000001
X-APPLE-STRUCTURED-LOCATION;VALUE=URI;X-ADDRESS=1348 Route 9W\, Marlboro\, 
 NY\, United States;X-APPLE-RADIUS=100;X-TITLE=The Falcon:geo:41.6061213,-7
 3.97065420000001
END:VEVENT
BEGIN:VTIMEZONE
TZID:America/New_York
X-LIC-LOCATION:America/New_York
BEGIN:DAYLIGHT
DTSTART:20260308T030000
TZOFFSETFROM:-0500
TZOFFSETTO:-0400
TZNAME:EDT
END:DAYLIGHT
END:VTIMEZONE
END:VCALENDAR