BEGIN:VCALENDAR
VERSION:2.0
PRODID:-//wp-events-plugin.com//7.2.3.1//EN
TZID:America/New_York
X-WR-TIMEZONE:America/New_York
BEGIN:VEVENT
UID:156436@kingstonhappenings.org
DTSTART;TZID=America/New_York:20260427T190000
DTEND;TZID=America/New_York:20260427T210000
DTSTAMP:20260423T180122Z
URL:https://kingstonhappenings.org/events/al-margolis-jill-burton-brian-ch
 arles-in-concert/
SUMMARY:Al Margolis\, Jill Burton &amp\; Brian Charles In Concert
DESCRIPTION:Al Margolis + Jill Burton + Brian Charles\n\nLace Mill\, Monday
  April 27\, 7pm\n\nIn the midst of an Elka Bong tour\, Al Margolis joins u
 s for a special solo performance\, joined by vocalist\, Jill Burton\, and\
 , Brian Charles (clarinet).\n\nFrequent collaborator at Deep Listening Spa
 ce (formerly located in Kingston)\, and well known in the DIY tape undergr
 ound going back to the 80's\, Margolis is a welcomed regular here at Lace 
 Mill. He is coming from Chester\, and will be doing double duties\, making
  a trio with Burton and Charles to end the evening.\n\nJill Burton\, a pow
 erful force in the abundant 80s NYC downtown music and art scene\, Burton 
 continues to redefine herself\, staying devoted to improvisation and heali
 ng through her work\, and working with some of the very best at it today\,
  including her running collaboration with cellist\, Jane Scarpantoni. Bria
 n Charles\, accomplished musician and craftsmen\, makes his debut at Lace 
 Mill\, though he has been associated with Margolis and Burton for some tim
 e\, he is new to the area. Let's give them all a warm welcome!\n\nStreet P
 arking Only. Smoking away from the building. Everyone Welcome. $10-15 Sugg
 ested (For the musicians).
ATTACH;FMTTYPE=image/jpeg:https://kingstonhappenings.org/wp-content/upload
 s/2026/04/666474252_26784616507823471_4098286214575602651_n-1.jpg
CATEGORIES:@Featured,Music,Nightlife and entertainment
LOCATION:The Lace Mill\, 165 Cornell St.\, Kingston\, New York\, 12401\, Un
 ited States
GEO:41.934636;-73.99857700000001
X-APPLE-STRUCTURED-LOCATION;VALUE=URI;X-ADDRESS=165 Cornell St.\, Kingston\
 , New York\, 12401\, United States;X-APPLE-RADIUS=100;X-TITLE=The Lace Mil
 l:geo:41.934636,-73.99857700000001
END:VEVENT
BEGIN:VTIMEZONE
TZID:America/New_York
X-LIC-LOCATION:America/New_York
BEGIN:DAYLIGHT
DTSTART:20260308T030000
TZOFFSETFROM:-0500
TZOFFSETTO:-0400
TZNAME:EDT
END:DAYLIGHT
END:VTIMEZONE
END:VCALENDAR