BEGIN:VCALENDAR
VERSION:2.0
PRODID:-//wp-events-plugin.com//7.2.3.1//EN
TZID:America/New_York
X-WR-TIMEZONE:America/New_York
BEGIN:VEVENT
UID:153298@kingstonhappenings.org
DTSTART;TZID=America/New_York:20260102T000000
DTEND;TZID=America/New_York:20260102T220000
DTSTAMP:20251229T165023Z
URL:https://kingstonhappenings.org/events/after-new-years-karaoke-bash/
SUMMARY:After New Years Karaoke Bash
DESCRIPTION:Come celebrate the new year with us at Castaways. Great food\, 
 drink\, and karaoke! Happy Hour starts at 5pm\, Karaoke starts at 7pm.
ATTACH;FMTTYPE=image/jpeg:https://kingstonhappenings.org/wp-content/upload
 s/2025/12/FB_IMG_1766762787014_1766762924007.jpg
CATEGORIES:@Featured,@Newsletter,Festivals and major community
 events,Music,Nightlife and entertainment
LOCATION:Castaways Bar and Grill\, 160 1st St\, Connelly\, NY\, 12417\, Uni
 ted States
GEO:41.911152;-73.993801
X-APPLE-STRUCTURED-LOCATION;VALUE=URI;X-ADDRESS=160 1st St\, Connelly\, NY\
 , 12417\, United States;X-APPLE-RADIUS=100;X-TITLE=Castaways Bar and Grill
 :geo:41.911152,-73.993801
END:VEVENT
BEGIN:VTIMEZONE
TZID:America/New_York
X-LIC-LOCATION:America/New_York
BEGIN:STANDARD
DTSTART:20251102T010000
TZOFFSETFROM:-0400
TZOFFSETTO:-0500
TZNAME:EST
END:STANDARD
END:VTIMEZONE
END:VCALENDAR