BEGIN:VCALENDAR
VERSION:2.0
PRODID:-//wp-events-plugin.com//7.2.3.1//EN
TZID:America/New_York
X-WR-TIMEZONE:America/New_York
BEGIN:VEVENT
UID:152593@kingstonhappenings.org
DTSTART;TZID=America/New_York:20251206T120000
DTEND;TZID=America/New_York:20251206T120000
DTSTAMP:20251105T201544Z
URL:https://kingstonhappenings.org/events/adventures-in-journalism-jimmy-b
 uff-interviews-brian-hollander-interviews-jimmy-buff/
SUMMARY:Adventures in Journalism: Jimmy Buff interviews Brian Hollander int
 erviews Jimmy Buff
DESCRIPTION:Two veterans of local radio trade stories to mark Brian Holland
 er’s book\, Nothing of Insignificance: Adventures in Journalism\, which
  collects his favorite pieces from 30 years at the Daily Freeman and Woods
 tock Times.\n\nExpect lively storytelling\, behind-the-scenes anecdotes fr
 om both print and radio\, and a meaningful tribute to the importance of lo
 cal journalism and media.\n\n&nbsp\;\n\nJimmy Buff has been the executive
  director of WKNY Radio Kingston since 2017. Previously\, he worked for 
 WDST.\n\nBrian Hollander\, a founding DJ at WDST Radio Woodstock in 1980
 \, was the editor of Woodstock Times for 19 years.\n\n&nbsp\;\n\nNo regist
 ration\, meet in the Community Room.
ATTACH;FMTTYPE=image/jpeg:https://kingstonhappenings.org/wp-content/upload
 s/2025/11/Adventures-in-Journalism-KHAP-1.png
CATEGORIES:@Featured
LOCATION:Kingston Library\, 61 Crown St\, Kingston\, NY\, 12401\, United St
 ates
GEO:41.934381;-74.021982
X-APPLE-STRUCTURED-LOCATION;VALUE=URI;X-ADDRESS=61 Crown St\, Kingston\, NY
 \, 12401\, United States;X-APPLE-RADIUS=100;X-TITLE=Kingston Library:geo:4
 1.934381,-74.021982
END:VEVENT
BEGIN:VTIMEZONE
TZID:America/New_York
X-LIC-LOCATION:America/New_York
BEGIN:STANDARD
DTSTART:20251102T010000
TZOFFSETFROM:-0400
TZOFFSETTO:-0500
TZNAME:EST
END:STANDARD
END:VTIMEZONE
END:VCALENDAR