BEGIN:VCALENDAR
VERSION:2.0
PRODID:-//wp-events-plugin.com//7.2.3.1//EN
TZID:America/New_York
X-WR-TIMEZONE:America/New_York
BEGIN:VEVENT
UID:152003@kingstonhappenings.org
DTSTART;TZID=America/New_York:20250928T170000
DTEND;TZID=America/New_York:20250928T170000
DTSTAMP:20250922T145215Z
URL:https://kingstonhappenings.org/events/a-last-sunday-honky-tonk-special
 /
SUMMARY:A Last Sunday Honky Tonk Special
DESCRIPTION:REDD VOLKAERTFamed Telecaster master Redd Volkaert makes his fi
 rst ever appearance in Woodstock with an all-star band including James Woo
 dall (steel guitar)\, Joel Harrison (guitar)\, Kyle Esposito (bass)\, Jerr
 y Marotta (drums). Redd is best known as Merle Haggard's accompanist for m
 any years\, but he has played with countless greats. In this performance\,
  which precedes the Masters of the Telecaster Guitar Camp at Full Moon Res
 ort\, the band will play country and swing music rooted in tradition and s
 eeking the future.https://www.reddvolkaert.com/\n\n&nbsp\;\nJOEL HARRISONh
 ttps://joelharrison.com/\nJERRY MAROTTAhttps://jerrymarotta.com/\nHUDSON V
 ALLEY FLYERShttps://flyersband.com/\n\nDoors 5pm | Dance Instruction 6pmHu
 dson Valley Flyers 6:30pm | Redd Volkaert &amp\; All Stars 8 pm
ATTACH;FMTTYPE=image/jpeg:https://kingstonhappenings.org/wp-content/upload
 s/2025/09/530237512_1397885275470364_5533830956015991081_n.jpg
CATEGORIES:@Featured,@Newsletter,Music,Nightlife and entertainment
LOCATION:Colony Woodstock NY\, 22 Rock City Rd\, Woodstock\, New York\, Uni
 ted States
GEO:42.0424924;-74.11799489999999
X-APPLE-STRUCTURED-LOCATION;VALUE=URI;X-ADDRESS=22 Rock City Rd\, Woodstock
 \, New York\, United States;X-APPLE-RADIUS=100;X-TITLE=Colony Woodstock NY
 :geo:42.0424924,-74.11799489999999
END:VEVENT
BEGIN:VTIMEZONE
TZID:America/New_York
X-LIC-LOCATION:America/New_York
BEGIN:DAYLIGHT
DTSTART:20250309T030000
TZOFFSETFROM:-0500
TZOFFSETTO:-0400
TZNAME:EDT
END:DAYLIGHT
END:VTIMEZONE
END:VCALENDAR