BEGIN:VCALENDAR
VERSION:2.0
PRODID:-//wp-events-plugin.com//7.2.3.1//EN
TZID:America/New_York
X-WR-TIMEZONE:America/New_York
BEGIN:VEVENT
UID:153147@kingstonhappenings.org
DTSTART;TZID=America/New_York:20251221T190000
DTEND;TZID=America/New_York:20251221T190000
DTSTAMP:20251216T143617Z
URL:https://kingstonhappenings.org/events/a-john-prine-christmas/
SUMMARY:A John Prine Christmas!
DESCRIPTION:Celebrate the magic of the holiday with a special John Prine tr
 ibute night!\nFrom his 1971 debut album to 2018's Grammy-award winning Tre
 e of Forgiveness\, the night will feature unique interpretations of 'the s
 inging mailmans' well-known classics and obscure gems\, as well as a few t
 raditional yuletide favorites!\nA portion of the proceeds will be donated 
 to the Hello In There Foundation\, an initiative established by the family
  of John Prine\, to honor his memory and continue the love\, kindness\, an
 d generosity he shared with the world. Their mission aims to identify and 
 collaborate with individuals and communities to offer support for people w
 ho are marginalized\, discriminated against\, or for any reason are otherw
 ise forgotten.\nFeaturing: Marc Delgado\, Kate Prascher\, Jack Grace\, Lau
 ra Zarougian\, Kyle Esposito\, Faith Loren\, Eric Squindo\, and more!
ATTACH;FMTTYPE=image/jpeg:https://kingstonhappenings.org/wp-content/upload
 s/2025/12/558885235_1454128839846007_1897114512522018513_n.jpg
CATEGORIES:@Featured,@Newsletter,Music,Nightlife and entertainment
LOCATION:Colony Woodstock NY\, 22 Rock City Rd\, Woodstock\, New York\, Uni
 ted States
GEO:42.0424924;-74.11799489999999
X-APPLE-STRUCTURED-LOCATION;VALUE=URI;X-ADDRESS=22 Rock City Rd\, Woodstock
 \, New York\, United States;X-APPLE-RADIUS=100;X-TITLE=Colony Woodstock NY
 :geo:42.0424924,-74.11799489999999
END:VEVENT
BEGIN:VTIMEZONE
TZID:America/New_York
X-LIC-LOCATION:America/New_York
BEGIN:STANDARD
DTSTART:20251102T010000
TZOFFSETFROM:-0400
TZOFFSETTO:-0500
TZNAME:EST
END:STANDARD
END:VTIMEZONE
END:VCALENDAR