BEGIN:VCALENDAR
VERSION:2.0
PRODID:-//wp-events-plugin.com//7.2.3.1//EN
TZID:America/New_York
X-WR-TIMEZONE:America/New_York
BEGIN:VEVENT
UID:152059@kingstonhappenings.org
DTSTART;TZID=America/New_York:20251004T160000
DTEND;TZID=America/New_York:20251004T173000
DTSTAMP:20250926T204152Z
URL:https://kingstonhappenings.org/events/a-culinary-uprising-the-story-of
 -bloodroot/
SUMMARY:A Culinary Uprising: The Story of Bloodroot
DESCRIPTION:Join us and the Women’s Studio Workshop as we host: A Culinar
 y Uprising: The Story of Bloodroot\n\nDirected and shot by Annie Laurie Me
 donis\, an LGBTQ+ and women-forward filmmaker\, A Culinary Uprising tells 
 the inspiring story of Selma Miriam (89) and Noel Furie (79)\, who founded
  Bloodroot\, a feminist vegan restaurant and bookstore. For 48 years\, the
 y’ve been a strong voice for diversity\, women’s empowerment\, and the
  wellbeing of all living creatures. Bloodroot has been featured in the New
  York Times and the Washington Post\, and continues to be on the cutting e
 dge of vegan dining worldwide.\n\nJoining us after the film for a Q&amp\;A
  is Emily Larned\, who authored a book about Bloodroot and also appears i
 n our documentary\, in conversation with Faythe Levine\, Archivist from Wo
 men’s Studio Workshop. Larned’s exhibition\, “Workshopping\,” open
 s on October 3\, 2025\, and is on view at WSW through January 2026.
ATTACH;FMTTYPE=image/jpeg:https://kingstonhappenings.org/wp-content/upload
 s/2025/09/bloodroot-sm.png
CATEGORIES:@Featured,@Newsletter,Movies
LOCATION:Rosendale Theater\, 408 Main St\, Rosendale\, New York\, 12472\, U
 nited States
GEO:41.8441401;-74.0821133
X-APPLE-STRUCTURED-LOCATION;VALUE=URI;X-ADDRESS=408 Main St\, Rosendale\, N
 ew York\, 12472\, United States;X-APPLE-RADIUS=100;X-TITLE=Rosendale Theat
 er:geo:41.8441401,-74.0821133
END:VEVENT
BEGIN:VTIMEZONE
TZID:America/New_York
X-LIC-LOCATION:America/New_York
BEGIN:DAYLIGHT
DTSTART:20250309T030000
TZOFFSETFROM:-0500
TZOFFSETTO:-0400
TZNAME:EDT
END:DAYLIGHT
END:VTIMEZONE
END:VCALENDAR