BEGIN:VCALENDAR
VERSION:2.0
PRODID:-//wp-events-plugin.com//7.2.3.1//EN
TZID:America/New_York
X-WR-TIMEZONE:America/New_York
BEGIN:VEVENT
UID:153055@kingstonhappenings.org
DTSTART;TZID=America/New_York:20251212T200000
DTEND;TZID=America/New_York:20251221T170000
DTSTAMP:20251216T143811Z
URL:https://kingstonhappenings.org/events/a-christmas-story-the-play/
SUMMARY:A Christmas Story ! The Play
DESCRIPTION:CENTERstage Productions is thrilled to present the play adaptat
 ion of A Christmas Story by Philip Grecian. Based on the motion picture A 
 Christmas Story\, © 1983 Turner Entertainment Co.\, distributed by Warner
  Bros.\, written by Jean Shepherd\, Leigh Brown and Bob Clark\; and on the
  book In God We Trust\, All Others Pay Cash by Jean Shepherd. Directed by 
 Rik Lopes.\nHumorist Jean Shepherd's memoir of growing up in the midwest i
 n the 1940s follows 9-year-old Ralphie Parker in his quest to get a genuin
 e Red Ryder BB gun under the tree for Christmas. Ralphie pleads his case b
 efore his mother\, his teacher and even Santa Claus himself at Higbee's De
 partment Store. The consistent response: "You'll shoot your eye out!" All 
 the elements from the beloved motion picture are here\, including the fami
 ly's temperamental exploding furnace\; Scut Farkas\, the school bully\; th
 e boys' experiment with a wet tongue on a cold lamppost\; the Little Orpha
 n Annie decoder pin\; Ralphie's father winning a lamp shaped like a woman'
 s leg in a net stocking\; Ralphie's fantasy scenarios and more. A Christma
 s Story is destined to become a theatrical holiday perennial.\nFeaturing H
 arvey Ryan (Ralphie Parker)\, Eric Ryan (Ralph Parker)\, Molly Feibel (Mot
 her)\, Howie Riggs (The Old Man)\, Eli Molinaro (Randy)\, Jessica Boyd (Mi
 ss Shields)\, Tatiyana Tillman (Flick)\, Luke Pomeroy (Schwartz)\, Linus R
 amakrishnan (Scut Farkus)\, Coraline Dell’Amore (“Toady”)\, Abby Kle
 in (Esther Jane)\, and Lois Musgrove (Helen). The ensemble includes Jill B
 esterfield\, Ronnie Carlson\, Liz Crew\, Brooke Dye-Fuentes\, Kathleen Kle
 in\, Archer Ryan\, Conan Ryan\, Lou Simone\, and Shawn Wodraska.\nPRODUCED
  BY SPECIAL ARRANGEMENT WITH THE DRAMATIC PUBLISHING COMPANY OF WOODSTOCK\
 , ILLINOIS\n\n\nDecember 5–21\, 2025Fridays at 8 PMSaturdays at 8 PM\, 3
  PM Matinees on December 6 &amp\; 20Sundays at 3 PM\nTickets $25\n\n
ATTACH;FMTTYPE=image/jpeg:https://kingstonhappenings.org/wp-content/upload
 s/2025/12/557740376_1460438439416476_140515328547053800_n.jpg
CATEGORIES:@Featured,@Newsletter,Community,Nightlife and
 entertainment,Theater
LOCATION:Center for Performing Arts at Rhinebeck\, \, 
X-APPLE-STRUCTURED-LOCATION;VALUE=URI;X-ADDRESS=\, ;X-APPLE-RADIUS=100;X-TI
 TLE=Center for Performing Arts at Rhinebeck:geo:0,0
END:VEVENT
BEGIN:VTIMEZONE
TZID:America/New_York
X-LIC-LOCATION:America/New_York
BEGIN:STANDARD
DTSTART:20251102T010000
TZOFFSETFROM:-0400
TZOFFSETTO:-0500
TZNAME:EST
END:STANDARD
END:VTIMEZONE
END:VCALENDAR