BEGIN:VCALENDAR
VERSION:2.0
PRODID:-//wp-events-plugin.com//7.2.3.1//EN
TZID:America/New_York
X-WR-TIMEZONE:America/New_York
BEGIN:VEVENT
UID:153054@kingstonhappenings.org
DTSTART;TZID=America/New_York:20251213T100000
DTEND;TZID=America/New_York:20251213T100000
DTSTAMP:20251215T144013Z
URL:https://kingstonhappenings.org/events/a-christmas-carol/
SUMMARY:Children's Storytime: "A Christmas Carol"
DESCRIPTION:Join us for a special event for families featuring the reading 
 ofA CHRISTMAS CAROL\, hot chocolate and seasonal refreshments\, followed b
 y the opportunity to experience the beautifully decorated Wilderstein mans
 ion.\nRecommended for ages 5 to 10. All children must be accompanied by an
  adult.\nRegister online at wilderstein.org/calendar/ or call the Wilder
 stein Office at 845-876-4818 for additional information.
ATTACH;FMTTYPE=image/jpeg:https://kingstonhappenings.org/wp-content/upload
 s/2025/12/580989595_1290788479519601_4700368242048576524_n.jpg
CATEGORIES:@Featured,@Newsletter,Community,Festivals and major community
 events,For kids
LOCATION:Wilderstein\, 330 Morton Rd\, Rhinebeck\, NY\, 12572\, United Stat
 es
GEO:41.894087;-73.942169
X-APPLE-STRUCTURED-LOCATION;VALUE=URI;X-ADDRESS=330 Morton Rd\, Rhinebeck\,
  NY\, 12572\, United States;X-APPLE-RADIUS=100;X-TITLE=Wilderstein:geo:41.
 894087,-73.942169
END:VEVENT
BEGIN:VTIMEZONE
TZID:America/New_York
X-LIC-LOCATION:America/New_York
BEGIN:STANDARD
DTSTART:20251102T010000
TZOFFSETFROM:-0400
TZOFFSETTO:-0500
TZNAME:EST
END:STANDARD
END:VTIMEZONE
END:VCALENDAR