BEGIN:VCALENDAR
VERSION:2.0
PRODID:-//wp-events-plugin.com//7.2.3.1//EN
TZID:America/New_York
X-WR-TIMEZONE:America/New_York
BEGIN:VEVENT
UID:153142@kingstonhappenings.org
DTSTART;TZID=America/New_York:20251218T193000
DTEND;TZID=America/New_York:20251218T193000
DTSTAMP:20251222T135303Z
URL:https://kingstonhappenings.org/events/a-celtic-christmas-by-a-taste-of
 -ireland/
SUMMARY:A Celtic Christmas By A Taste of Ireland
DESCRIPTION:After captivating audiences across the globe\, A Celtic Christ
 mas by A Taste of Ireland returns to the USA this festive season followin
 g a highly successful 2024 touring season. Experience the magic as world-c
 lass performers blend melodic folk mash-ups\, acapella tap battles\, and h
 eartwarming storytelling in one truly unforgettable performance.\nFeaturin
 g former World Irish dance champions and stars from Lord of the Dance and 
 Riverdance\, A Celtic Christmas delivers a holiday spectacular packed wi
 th Irish wit\, traditional tunes and heartfelt ballads\, alongside all you
 r favorite carols. The show’s exciting mix of electrifying rhythms and e
 xtraordinary talent promises an evening brimming with Irish charm and enth
 ralling entertainment\, all in one powerhouse event.\nImmerse yourself in 
 a traditional Celtic landscape and let the magic of an Irish Christmas tra
 nsport you to a world filled with excitement and wonder\, where vibrant mu
 sic and dance embody the heartbeat of the festive season.
ATTACH;FMTTYPE=image/jpeg:https://kingstonhappenings.org/wp-content/upload
 s/2025/12/TM-celticchristmas-990x557-1-e1765815745691.jpg
CATEGORIES:@Featured,@Newsletter
LOCATION:Ulster Performing Arts Center (UPAC)\, 601 Broadway\, Kingston\, N
 ew York\, 12401\, United States
GEO:41.92931799999999;-74.004142
X-APPLE-STRUCTURED-LOCATION;VALUE=URI;X-ADDRESS=601 Broadway\, Kingston\, N
 ew York\, 12401\, United States;X-APPLE-RADIUS=100;X-TITLE=Ulster Performi
 ng Arts Center (UPAC):geo:41.92931799999999,-74.004142
END:VEVENT
BEGIN:VTIMEZONE
TZID:America/New_York
X-LIC-LOCATION:America/New_York
BEGIN:STANDARD
DTSTART:20251102T010000
TZOFFSETFROM:-0400
TZOFFSETTO:-0500
TZNAME:EST
END:STANDARD
END:VTIMEZONE
END:VCALENDAR