BEGIN:VCALENDAR
VERSION:2.0
PRODID:-//wp-events-plugin.com//7.2.3.1//EN
TZID:America/New_York
X-WR-TIMEZONE:America/New_York
BEGIN:VEVENT
UID:152301@kingstonhappenings.org
DTSTART;TZID=America/New_York:20251015T190000
DTEND;TZID=America/New_York:20251015T190000
DTSTAMP:20251013T172031Z
URL:https://kingstonhappenings.org/events/a-break-in-the-rain-followed-by-
 qa-live-performance-by-the-catriona-walsh-band/
SUMMARY:A BREAK IN THE RAIN followed by Q&A & live performance by “The Ca
 triona Walsh Band”
DESCRIPTION:Join the Woodstock Film Festival for the World Premiere of loca
 lly shot film A BREAK IN THE RAIN starring Michael O’Keefe\, followed by
  a Q&amp\;A and a live performance of original music featured in the film 
 by “The Catriona Walsh Band” with Elizabeth A. Davis\, Will Chase\, an
 d Don Scardino\, and New York musicians John Miller (bass)\, Larry Saltzma
 n (electric guitar)\, Andy Ezrin (piano)\, and Clint DeGanon (drums).\n\n\
 nFilm Synopsis\nJake Watson has been on the road with his dog for nearly t
 en years. When his grown son dies\, he returns home to a daughter-in-law a
 nd grandchildren he barely knows. To help them out with finances\, he take
 s a job driving for a car service. Jake picks up singer Catriona Walsh at 
 the airport and delivers her to her gig\, and their unexpected friendship 
 winds up stretching into a two week road trip. Catriona starts setting Jak
 e’s poetry to music\, and the music triggers a transformation that final
 ly sets him on a path to healing.\n\n\nRuntime (minutes): 111\nLanguage: E
 nglish\nCountry of Production: United States\nFilm Company: Silent Crow Ar
 ts\nPremiere Status: World Premiere\n\n\nCredits:\nDirector: Don Scardino\
 nScreenwriter: Dana L. Williams\nProducer: Matthew Bennett\, Tim Mann\nExe
 cutive Producer: Gina Maria Leonetti\nCast: Michael O'Keefe\, S. Epatha Me
 rkerson\, Will Chase\, Elizabeth A Davis\, Emily Donahoe\nCinematographer:
  Matthew Clark\nEditor: Matthew Bennett\nProduction Design: Kevin Ladson\n
 Composer: Don Scardino\, Elizabeth A. Davis\nSound Design: Allison Casey\n
 Music: Don Scardino\, Elizabeth A. Davis\n\n\nAbout the Director:\nFeature
  films include OUR (ALMOST COMPLETELY TRUE LOVE) STORY\, ME &amp\; VERONIC
 A\, ADVICE FROM A CATERPILLAR\, and THE INCREDIBLE BURT WONDERSTONE. Don i
 s a multiple Emmy award winner for producing and directing TV's 30 ROCK\, 
 and has directed and/or produced multiple episodes of ONLY MURDERS IN THE 
 BUILDING\, NEW AMSTERDAM\, MURPHY BROWN\, THE UNBREAKABLE KIMMY SCHMIDT\, 
 2 BROKE GIRLS\, YOUNG SHELDON\,THE WEST WING\, RESCUE ME\, COSBY\, and man
 y more. He also directed A FEW GOOD MEN and LENNON on Broadway\, won an Ob
 ie for directing A CHEEVER EVENING\, and was the Artistic Director at Play
 wrights Horizons in Manhattan for five years.\n\n***This is considered a W
 FF SPECIAL EVENT but official WFF passes will be honored without purchase 
 of a ticket.***\n\nFor more information and other events during the Woodst
 ock Film Festival\, visit: www.woodstockfilmfestival.org
ATTACH;FMTTYPE=image/jpeg:https://kingstonhappenings.org/wp-content/upload
 s/2025/10/549841040_1433464995245725_2533561743352263054_n.jpg
CATEGORIES:@Featured,@Newsletter,Music,Nightlife and entertainment
LOCATION:Colony Woodstock NY\, 22 Rock City Rd\, Woodstock\, New York\, Uni
 ted States
GEO:42.0424924;-74.11799489999999
X-APPLE-STRUCTURED-LOCATION;VALUE=URI;X-ADDRESS=22 Rock City Rd\, Woodstock
 \, New York\, United States;X-APPLE-RADIUS=100;X-TITLE=Colony Woodstock NY
 :geo:42.0424924,-74.11799489999999
END:VEVENT
BEGIN:VTIMEZONE
TZID:America/New_York
X-LIC-LOCATION:America/New_York
BEGIN:DAYLIGHT
DTSTART:20250309T030000
TZOFFSETFROM:-0500
TZOFFSETTO:-0400
TZNAME:EDT
END:DAYLIGHT
END:VTIMEZONE
END:VCALENDAR