BEGIN:VCALENDAR
VERSION:2.0
PRODID:-//wp-events-plugin.com//7.2.3.1//EN
TZID:America/New_York
X-WR-TIMEZONE:America/New_York
BEGIN:VEVENT
UID:153139@kingstonhappenings.org
DTSTART;TZID=America/New_York:20251220T190000
DTEND;TZID=America/New_York:20251220T190000
DTSTAMP:20251216T143616Z
URL:https://kingstonhappenings.org/events/a-band-of-brothers-an-all-star-t
 ribute-to-the-allman-brothers/
SUMMARY:A Band of Brothers - An All Star Tribute to the Allman Brothers
DESCRIPTION:"A Band Of Brothers" isn't just an Allman Brothers tribute band
 \; they're a powerhouse\, uniting the top-tier talent of the East Coast. T
 he brainchild of ace Boston guitarists Ryan Taylor and Johnny Trama\, this
  collective\, more than a mere homage\, harness the Allman Brothers tradit
 ion as a vehicle to bring a unique and exciting experience every night.\nM
 att Zeiner began his professional music career touring with Matt "Guitar" 
 Murphy\, who exposed him to a fusion of blues and jazz. His career took a 
 significant turn in 2000 when Dickey Betts of the Allman Brothers Band rec
 ruited him as a keyboardist and vocalist\, leading to a fruitful collabora
 tion and tour. Zeiner's own songwriting flourished during this time\, cont
 ributing notably to the band's repertoire. After four years touring\, he r
 eturned home\, focused on original material\, and formed his own band. The
 y achieved recognition with their 2007 release\, "Live on a Summer Night\,
 " and continued to evolve through collaborations with artists like Melvin 
 Sparks and Jeff Pevar. Zeiner's band has since been working on an ambitiou
 s new album\, showcasing his ability to craft infectious melodies with tig
 ht\, dynamic arrangements across a range of soul\, R&amp\;B\, and rock gen
 res. Johnny Trama on guitar conjures up riffs and rhythms that speak volum
 es. His journey through the realms of rock\, soul\, and blues\, playing wi
 th icons like Bettye LaVette and Jesse Dee\, has armed him with a mystical
  musical prowess. Jesse Williams on bass has played with everyone from Duk
 e Robillard\, Louis Walker to North Mississippi Allstars. Tom Arey behind 
 the drums has played with artists like Peter Wolf’s Midnight Travelers. 
 Brendan Tommaney on percussion has played with groups like Pink Talking Fi
 sh\, Tommaney and brings a jazz-infused sensibility that adds depth and di
 mension to the band's sound.
ATTACH;FMTTYPE=image/jpeg:https://kingstonhappenings.org/wp-content/upload
 s/2025/12/https___cdn.evbuc_.com_images_1150269293_1215221688883_1_origina
 l.jpg
CATEGORIES:@Featured,@Newsletter,Music,Nightlife and entertainment
LOCATION:Colony Woodstock NY\, 22 Rock City Rd\, Woodstock\, New York\, Uni
 ted States
GEO:42.0424924;-74.11799489999999
X-APPLE-STRUCTURED-LOCATION;VALUE=URI;X-ADDRESS=22 Rock City Rd\, Woodstock
 \, New York\, United States;X-APPLE-RADIUS=100;X-TITLE=Colony Woodstock NY
 :geo:42.0424924,-74.11799489999999
END:VEVENT
BEGIN:VTIMEZONE
TZID:America/New_York
X-LIC-LOCATION:America/New_York
BEGIN:STANDARD
DTSTART:20251102T010000
TZOFFSETFROM:-0400
TZOFFSETTO:-0500
TZNAME:EST
END:STANDARD
END:VTIMEZONE
END:VCALENDAR