BEGIN:VCALENDAR
VERSION:2.0
PRODID:-//wp-events-plugin.com//7.2.3.1//EN
TZID:America/New_York
X-WR-TIMEZONE:America/New_York
BEGIN:VEVENT
UID:152343@kingstonhappenings.org
DTSTART;TZID=America/New_York:20251114T193000
DTEND;TZID=America/New_York:20251114T214500
DTSTAMP:20251014T142829Z
URL:https://kingstonhappenings.org/events/75th-anniversary-show-2/
SUMMARY:75th anniversary show
DESCRIPTION:Coach House Players\, 12 Augusta St celebrating 75th anniversar
 y with a show featuring music from several of their musicals performed ove
 r the years. Performance dates are November 7\, 8\, 14 &amp\; 15 at 7:3 0
    pm and November 9 &amp\; 16 at 2:00 pm. Tickets available on line at 
 www.coachhouseplayers.org. Prices are $22\, with $20 for seniors 62 &amp\;
  over and veterans a nd $15 for ages 18 and under. Theater is handicapped 
 accessible with assistance.
CATEGORIES:@Featured,Theater
LOCATION:Coach House Players Theater\, 12 Augusta St\, Kingston\, NY\, 1240
 1\, United States
GEO:41.921168;-73.992424
X-APPLE-STRUCTURED-LOCATION;VALUE=URI;X-ADDRESS=12 Augusta St\, Kingston\, 
 NY\, 12401\, United States;X-APPLE-RADIUS=100;X-TITLE=Coach House Players 
 Theater:geo:41.921168,-73.992424
END:VEVENT
BEGIN:VTIMEZONE
TZID:America/New_York
X-LIC-LOCATION:America/New_York
BEGIN:STANDARD
DTSTART:20251102T010000
TZOFFSETFROM:-0400
TZOFFSETTO:-0500
TZNAME:EST
END:STANDARD
END:VTIMEZONE
END:VCALENDAR