BEGIN:VCALENDAR
VERSION:2.0
PRODID:-//wp-events-plugin.com//7.2.3.1//EN
TZID:America/New_York
X-WR-TIMEZONE:America/New_York
BEGIN:VEVENT
UID:152802@kingstonhappenings.org
DTSTART;TZID=America/New_York:20251127T100000
DTEND;TZID=America/New_York:20251127T100000
DTSTAMP:20251201T140855Z
URL:https://kingstonhappenings.org/events/6th-annual-spread-love-thanksgiv
 ing-day-event/
SUMMARY:6th Annual Spread Love Thanksgiving Day Event!
DESCRIPTION:CCE is happy to present the 6th Annual Spread Love Thanksgiving
  Day Event!Join us at the Kingston Pop-Up Shop &amp\; Cafe on Thursday\, N
 ovember 27th from 10am - 1pm for a delicious Thanksgiving meal provided by
  Diamond Mills and served by caring and compassionate community members!De
 livery will be a BIG part of this year's event!If you or someone you love 
 is in need of meal delivery\, please visit CCE4ME.ORG to sign up.Meals a
 vailable while supplies last.\nKingston Pop-Up Shop &amp\; Cafe10 Cedar St
 reet\, Kingston\, NY\nVolunteer and Delivery Driver opportunities availabl
 e.Visit CCE4ME.ORG or call 845-338-7664 to sign-up or for more informati
 on.
ATTACH;FMTTYPE=image/jpeg:https://kingstonhappenings.org/wp-content/upload
 s/2025/11/574572807_1268737378626598_7398436691328132783_n.jpg
CATEGORIES:@Featured,@Newsletter,Community
LOCATION:Center for Creative Education\, 16 Cedar St. \, Kingston \, NY\, 1
 2401\, United States
GEO:41.929305;-74.001983
X-APPLE-STRUCTURED-LOCATION;VALUE=URI;X-ADDRESS=16 Cedar St. \, Kingston \,
  NY\, 12401\, United States;X-APPLE-RADIUS=100;X-TITLE=Center for Creative
  Education:geo:41.929305,-74.001983
END:VEVENT
BEGIN:VTIMEZONE
TZID:America/New_York
X-LIC-LOCATION:America/New_York
BEGIN:STANDARD
DTSTART:20251102T010000
TZOFFSETFROM:-0400
TZOFFSETTO:-0500
TZNAME:EST
END:STANDARD
END:VTIMEZONE
END:VCALENDAR