BEGIN:VCALENDAR
VERSION:2.0
PRODID:-//wp-events-plugin.com//7.2.3.1//EN
TZID:America/New_York
X-WR-TIMEZONE:America/New_York
BEGIN:VEVENT
UID:152044@kingstonhappenings.org
DTSTART;TZID=America/New_York:20251004T100000
DTEND;TZID=America/New_York:20251004T130000
DTSTAMP:20250929T140808Z
URL:https://kingstonhappenings.org/events/4th-annual-hogs-dogs-event-2/
SUMMARY:4th Annual Hogs &amp\; Dogs Event
DESCRIPTION:Ride the road as a member of the Hogs &amp\; Dogs motorcycle ga
 ng for a day\, in support of the shelter animals at the Ulster County SPCA
 ! On Saturday\, October 4th\, revv your engines at Woodstock Harley in Woo
 dstock\, NY and ride to Great Life Brewing in West Park\, NY where there w
 ill be live music\, food &amp\; drink\, games &amp\; raffle\, prizes and c
 ontests. Registration opens at 10am\, with $25 for riders and $10 for pass
 engers. Ride the road for the Ulster County SPCA!
ATTACH;FMTTYPE=image/jpeg:https://kingstonhappenings.org/wp-content/upload
 s/2025/09/Hogs-Dogs-1.jpg
CATEGORIES:@Featured,@Newsletter,Community
LOCATION:Woodstock Harley-Davidson\, 949 Rt. 28\, Kingston\, NY\, United St
 ates
GEO:41.9691875;-74.07052980000003
X-APPLE-STRUCTURED-LOCATION;VALUE=URI;X-ADDRESS=949 Rt. 28\, Kingston\, NY\
 , United States;X-APPLE-RADIUS=100;X-TITLE=Woodstock Harley-Davidson:geo:4
 1.9691875,-74.07052980000003
END:VEVENT
BEGIN:VTIMEZONE
TZID:America/New_York
X-LIC-LOCATION:America/New_York
BEGIN:DAYLIGHT
DTSTART:20250309T030000
TZOFFSETFROM:-0500
TZOFFSETTO:-0400
TZNAME:EDT
END:DAYLIGHT
END:VTIMEZONE
END:VCALENDAR