BEGIN:VCALENDAR
VERSION:2.0
PRODID:-//wp-events-plugin.com//7.2.3.1//EN
TZID:America/New_York
X-WR-TIMEZONE:America/New_York
BEGIN:VEVENT
UID:155817@kingstonhappenings.org
DTSTART;TZID=America/New_York:20260315T124500
DTEND;TZID=America/New_York:20260315T124500
DTSTAMP:20260316T123726Z
URL:https://kingstonhappenings.org/events/38th-annual-shamrock-run/
SUMMARY:38th annual Shamrock Run
DESCRIPTION:The 38th annual Shamrock Run will be take place Sunday\, March 
 15th!\nFlat\, Fast &amp\; First Class - the Shamrock Run will start at Aca
 demy Green at 12:50pm with the blast of a cannon. The finish line is at th
 e end of Broadway at the Rondout - only 2 miles away \nMore details comin
 g soon!!\nRegistration opens Monday\, January 19th at 12 midnight  learn
  more at www.shamrockrun.org
ATTACH;FMTTYPE=image/jpeg:https://kingstonhappenings.org/wp-content/upload
 s/2026/03/614676776_1579826436923076_2880353615685840471_n.jpg
CATEGORIES:@Featured,@Newsletter,Community,Sports and recreation
LOCATION:Academy Green Park\, 238 Clinton Ave\, Kingston\, NY\, 12401\, Uni
 ted States
GEO:41.932758;-74.01574260000001
X-APPLE-STRUCTURED-LOCATION;VALUE=URI;X-ADDRESS=238 Clinton Ave\, Kingston\
 , NY\, 12401\, United States;X-APPLE-RADIUS=100;X-TITLE=Academy Green Park
 :geo:41.932758,-74.01574260000001
END:VEVENT
BEGIN:VTIMEZONE
TZID:America/New_York
X-LIC-LOCATION:America/New_York
BEGIN:DAYLIGHT
DTSTART:20260308T030000
TZOFFSETFROM:-0500
TZOFFSETTO:-0400
TZNAME:EDT
END:DAYLIGHT
END:VTIMEZONE
END:VCALENDAR