BEGIN:VCALENDAR
VERSION:2.0
PRODID:-//wp-events-plugin.com//7.2.3.1//EN
TZID:America/New_York
X-WR-TIMEZONE:America/New_York
BEGIN:VEVENT
UID:152327@kingstonhappenings.org
DTSTART;TZID=America/New_York:20251019T110000
DTEND;TZID=America/New_York:20251019T160000
DTSTAMP:20251020T141637Z
URL:https://kingstonhappenings.org/events/38th-annual-gathering-of-old-car
 s/
SUMMARY:38th Annual Gathering of Old Cars
DESCRIPTION:The 38th Annual Gathering of Old Cars will take place on Sunday
 \, October 19th at Staatsburgh State Historic Site from 11am-4pm. Come to 
 the site to enjoy classic cars\, fall foliage\, and beautiful views!\nTher
 e is no charge to attend the event and view the cars as a spectator. The m
 ansion will be open for tours for a fee.\n\nAttention Car Owners:\nThere a
 re a few changes for the 2025 show. The most important change is that all 
 show cars must arrive between 9-11am. If you arrive after 11am\, you will 
 need to park in the general public parking area.\nIf you are a member of a
  participating car club\, please register with your club. You do not need 
 to register directly with the site.\nIf you are not a member of a car club
  and plan to bring your individual car to the show\, you must register at
  www.bookeo.com/staatsburghshs to ensure there will be space on the fiel
 d.\nWe look forward to a great show!
ATTACH;FMTTYPE=image/jpeg:https://kingstonhappenings.org/wp-content/upload
 s/2025/10/547930300_1192754279552868_5329292399074613095_n.jpg
CATEGORIES:@Featured,@Newsletter,Community,Nightlife and entertainment
LOCATION:Staatsburgh State Historic Site\,  75 Mills Mansion Drive Rd 1\, S
 taatsburg\, NY\, United States
GEO:41.856645;-73.929923
X-APPLE-STRUCTURED-LOCATION;VALUE=URI;X-ADDRESS= 75 Mills Mansion Drive Rd 
 1\, Staatsburg\, NY\, United States;X-APPLE-RADIUS=100;X-TITLE=Staatsburgh
  State Historic Site:geo:41.856645,-73.929923
END:VEVENT
BEGIN:VTIMEZONE
TZID:America/New_York
X-LIC-LOCATION:America/New_York
BEGIN:DAYLIGHT
DTSTART:20250309T030000
TZOFFSETFROM:-0500
TZOFFSETTO:-0400
TZNAME:EDT
END:DAYLIGHT
END:VTIMEZONE
END:VCALENDAR