BEGIN:VCALENDAR
VERSION:2.0
PRODID:-//wp-events-plugin.com//7.2.3.1//EN
TZID:America/New_York
X-WR-TIMEZONE:America/New_York
BEGIN:VEVENT
UID:151461@kingstonhappenings.org
DTSTART;TZID=America/New_York:20250817T100000
DTEND;TZID=America/New_York:20250817T100000
DTSTAMP:20250818T113527Z
URL:https://kingstonhappenings.org/events/2nd-annual-peoples-place-rally-r
 ide/
SUMMARY:2nd Annual People's Place Rally Ride
DESCRIPTION:Come join us for our 2nd Annual People's Place Rally Ride. Come
  help all the programs that People's Place provide in our local area. We g
 ave out over 1.5 million meals last year to help our community in need wit
 h food. Registration 10-11am @ People Place Parking Lot 16 St\, James St. 
 Kingston Ny. 12401. Beautiful ride through the Catskills escorted. Then a 
 barbecue @ Castaways Marina Bar &amp\; Grille in Connelly from 1-4 pm. Rid
 ers $25 passengers $20. All proceeds are going to People's Place to suppor
 t the local programs. There will be raffles\, giveaways and games. All peo
 ple are welcomed $25 @ the event. The Clique band will be performing
ATTACH;FMTTYPE=image/jpeg:https://kingstonhappenings.org/wp-content/upload
 s/2025/08/493726308_9789353924487686_1761762409650264186_n.jpg
CATEGORIES:@Featured,@Newsletter,Community,Festivals and major community
 events
LOCATION:Castaways Bar and Grill\, 160 1st St\, Connelly\, NY\, 12417\, Uni
 ted States
GEO:41.911152;-73.993801
X-APPLE-STRUCTURED-LOCATION;VALUE=URI;X-ADDRESS=160 1st St\, Connelly\, NY\
 , 12417\, United States;X-APPLE-RADIUS=100;X-TITLE=Castaways Bar and Grill
 :geo:41.911152,-73.993801
END:VEVENT
BEGIN:VTIMEZONE
TZID:America/New_York
X-LIC-LOCATION:America/New_York
BEGIN:DAYLIGHT
DTSTART:20250309T030000
TZOFFSETFROM:-0500
TZOFFSETTO:-0400
TZNAME:EDT
END:DAYLIGHT
END:VTIMEZONE
END:VCALENDAR