BEGIN:VCALENDAR
VERSION:2.0
PRODID:-//wp-events-plugin.com//7.2.3.1//EN
TZID:America/New_York
X-WR-TIMEZONE:America/New_York
BEGIN:VEVENT
UID:155792@kingstonhappenings.org
DTSTART;TZID=America/New_York:20260516T090000
DTEND;TZID=America/New_York:20260516T100000
DTSTAMP:20260309T014115Z
URL:https://kingstonhappenings.org/events/2nd-annual-esopus-fire-dept-5k-r
 un-walk/
SUMMARY:2nd Annual Esopus Fire Dept. 5K Run/Walk
DESCRIPTION:\n\n\n\n\n\n\n\n2nd Annual Esopus Firehouse 5K Run/Walk \n Satu
 rday\, May 16\, 2026\n Headless Horseman Hayrides\n\n\nThe Esopus Fire Dep
 artment is excited to host our 2nd Annual Firehouse 5K Run/Walk! After a g
 reat first year\, we’re back for another fun\, community-focused event s
 upporting our 100% volunteer fire department.\n\n\n Runners &amp\; Walkers
  Welcome\nAll ages and abilities are invited! Whether you’re running\, w
 alking\, or cheering from the sidelines\, it’s a great way to support a 
 great cause.\n\n\n Register here:\nhttps://esopusfd.com/5k\n\n\n Early reg
 istration ends after April 24\, 2026\n\n\n Kids Fun Run following the 5K!\
 n\n\n Calling All Local Businesses &amp\; Sponsors!\nWe’re also looking 
 for sponsors to help make this event a success. Sponsorships help cover ev
 ent costs and directly support the Esopus Fire Department.\n\n\n Sponsorsh
 ip Levels:\n Platinum – $500: Logo on all runners’ &amp\; volunteers
 ’ shirts\n Gold – $250: Smaller logo on event shirts\n Silver – $150
 : Business name on event shirts\n\n\nAll sponsors are recognized on race d
 ay\, social media\, and along the 5K course.\n\n\n Sponsor deadline: April
  24\, 2026\n\n\n\n\n\n\n\n\n\n\n\n\n\n\n\n\n\n\n\n\n\n\n\n\n\n\n\n\n\n\n\n
 \n
ATTACH;FMTTYPE=image/jpeg:https://kingstonhappenings.org/wp-content/upload
 s/2026/03/2026-5K.jpg
CATEGORIES:@Featured,Community
LOCATION:Headless Horseman Hayrides and Haunted Attractions\, 778 Broadway\
 , Town of Esopus\, NY\, 12401\, United States
GEO:41.851762;-73.969251
X-APPLE-STRUCTURED-LOCATION;VALUE=URI;X-ADDRESS=778 Broadway\, Town of Esop
 us\, NY\, 12401\, United States;X-APPLE-RADIUS=100;X-TITLE=Headless Horsem
 an Hayrides and Haunted Attractions:geo:41.851762,-73.969251
END:VEVENT
BEGIN:VTIMEZONE
TZID:America/New_York
X-LIC-LOCATION:America/New_York
BEGIN:DAYLIGHT
DTSTART:20260308T030000
TZOFFSETFROM:-0500
TZOFFSETTO:-0400
TZNAME:EDT
END:DAYLIGHT
END:VTIMEZONE
END:VCALENDAR