BEGIN:VCALENDAR
VERSION:2.0
PRODID:-//wp-events-plugin.com//7.2.3.1//EN
TZID:America/New_York
X-WR-TIMEZONE:America/New_York
BEGIN:VEVENT
UID:152313@kingstonhappenings.org
DTSTART;TZID=America/New_York:20251019T100000
DTEND;TZID=America/New_York:20251019T170000
DTSTAMP:20251020T141628Z
URL:https://kingstonhappenings.org/events/28th-annual-rosendale-internatio
 nal-pickle-festival/
SUMMARY:28th Annual Rosendale International Pickle Festival
DESCRIPTION:The 28th Annual Rosendale International Pickle FestivalSUNDAY\,
  OCTOBER 19\, 2025$5 per person\, kids under 12 freeNO PETSUlster County F
 airgrounds249 Libertyville Rd\, New Paltz\, NY 12561Visit our websitehttps
 ://rosendalepicklefestival.org/Sign up for our newsletter https://lp.cons
 tantcontactpages.com/sl/mpHJ3KQEmail us RosendalePickleFest@gmail.com
ATTACH;FMTTYPE=image/jpeg:https://kingstonhappenings.org/wp-content/upload
 s/2025/10/483570231_1145684490687515_7618580333334496254_n.jpg
CATEGORIES:@Featured,@Newsletter,Community,Festivals and major community
 events,Nightlife and entertainment
LOCATION:Ulster County Fairgrounds\, 249 Libertyville Rd.\, New Paltz\, New
  York\, 12561\, United States
GEO:41.7220299;-74.12241719999997
X-APPLE-STRUCTURED-LOCATION;VALUE=URI;X-ADDRESS=249 Libertyville Rd.\, New 
 Paltz\, New York\, 12561\, United States;X-APPLE-RADIUS=100;X-TITLE=Ulster
  County Fairgrounds:geo:41.7220299,-74.12241719999997
END:VEVENT
BEGIN:VTIMEZONE
TZID:America/New_York
X-LIC-LOCATION:America/New_York
BEGIN:DAYLIGHT
DTSTART:20250309T030000
TZOFFSETFROM:-0500
TZOFFSETTO:-0400
TZNAME:EDT
END:DAYLIGHT
END:VTIMEZONE
END:VCALENDAR