BEGIN:VCALENDAR
VERSION:2.0
PRODID:-//wp-events-plugin.com//7.2.3.1//EN
TZID:America/New_York
X-WR-TIMEZONE:America/New_York
BEGIN:VEVENT
UID:155803@kingstonhappenings.org
DTSTART;TZID=America/New_York:20260315T100000
DTEND;TZID=America/New_York:20260315T100000
DTSTAMP:20260309T130813Z
URL:https://kingstonhappenings.org/events/253559/
SUMMARY:Shamrock Run Day with Mike & Pete!
DESCRIPTION:“Cead Mile Failte”\n\nJoin us BEFORE and after the Shamrock
  Run for our annual EARLY St. Patrick’s day celebration at Keegan Ales! 
   We have live music from the McGroovin Duo (Mike O’Leary\, vocals and 
 plays guitar\, Pete Halvorsen on the fiddle)\, the AOH Pipe and Drum with 
 Color Guard. The bar is open early but the show starts at 3pm and continue
 s all day and into the night.\n\nWe’ll be serving up all your HOOLEY fav
 orites\, Corned Beef Sandwiches and Dinners and much more!  Come spend Ki
 ngston’s favorite Holiday Sunday with us and all our friends\, and have 
 your fill of great food\, beer\, live Irish music and dance! Slainte!
ATTACH;FMTTYPE=image/jpeg:https://kingstonhappenings.org/wp-content/upload
 s/2026/03/st-patrick-s-day-background-r5pqv153uc0zvkix-1.jpg
CATEGORIES:@Featured,@Newsletter,Music,Nightlife and entertainment
LOCATION:Keegan Ales\, 20 Saint James Street\, Kingston\, NY\, 12401\, Unit
 ed States
GEO:41.931504;-74.01187
X-APPLE-STRUCTURED-LOCATION;VALUE=URI;X-ADDRESS=20 Saint James Street\, Kin
 gston\, NY\, 12401\, United States;X-APPLE-RADIUS=100;X-TITLE=Keegan Ales:
 geo:41.931504,-74.01187
END:VEVENT
BEGIN:VTIMEZONE
TZID:America/New_York
X-LIC-LOCATION:America/New_York
BEGIN:DAYLIGHT
DTSTART:20260308T030000
TZOFFSETFROM:-0500
TZOFFSETTO:-0400
TZNAME:EDT
END:DAYLIGHT
END:VTIMEZONE
END:VCALENDAR