BEGIN:VCALENDAR
VERSION:2.0
PRODID:-//wp-events-plugin.com//7.2.3.1//EN
TZID:America/New_York
X-WR-TIMEZONE:America/New_York
BEGIN:VEVENT
UID:153328@kingstonhappenings.org
DTSTART;TZID=America/New_York:20251231T210000
DTEND;TZID=America/New_York:20251231T210000
DTSTAMP:20260105T125237Z
URL:https://kingstonhappenings.org/events/250525/
SUMMARY:Chris Wells and The Silver Spaceship w/ Freeks Garage New Year's Ev
 e
DESCRIPTION:Silver Spaceship Blasts Off into the New Year at Colony\, Woods
 tock\, NY Annual Cosmic Dance Party Returns to Ring in 2026\nThe tradition
  continues! The Hudson Valley’s beloved party band Silver Spaceship — 
 The Greatest All-Star Party Band in the Known Universe — returns to Colo
 ny (22 Rock City Rd\, Woodstock\, NY) for its annual New Year’s Eve cele
 bration\, one of the area’s most anticipated ways to welcome the new yea
 r.\nThe night kicks off at 8:00 p.m. with local favorites Freek’s Garage
 \, setting the groove for Silver Spaceship’s high-energy blastoff at 10:
 00 p.m. Expect an unforgettable mix of funk\, pop\, soul\, and classic roc
 k that keeps the dance floor packed straight through midnight and beyond 
 — plus costumes\, glitter\, and a countdown filled with cosmic joy.\n“
 This show has become a yearly ritual — a night to dance your ass off and
  celebrate being alive\,” says Chris Wells\, the band’s captain. “We
  want to lift people up\, make them feel like they’ve traveled through a
  funky and fabulous dimension for a few hours.”\nBand Line-UpChris Wells
  (Captain\, vocals)\, Jeremy Bass (guitar\, vocals)\, Jennifer Maidman (ba
 ss)\, Annie Whitehead (trombone)\, Matt Bauder (saxophone)\, Lisa Wexler (
 percussion)\, Marta Waterman (keys)\, Aaron Kotler (piano)\, Alison Blair 
 (vocals)\, Loren Dorch-Crozier (vocals)\, Joe Cosgrove (drums) — plus a 
 few very special guests.\nCosmic Costume ContestBring your interstellar be
 st! The New Year’s Eve Costume Contest features three categories:Extra-T
 errestrial — Out-of-this-world originality encouraged�Galactic Glam 
 — Sparkle\, shine\, and interplanetary style�Disco Star — Classic di
 sco fever meets cosmic flair\nWinners in each category will receive a Silv
 er Spaceship T-shirt and eternal bragging rights as a Champion of the Cosm
 os.\nStep-and-Repeat Photo SpotStrike a pose! Guests can snap photos in fr
 ont of the official Silver Spaceship step-and-repeat banner\, capturing th
 eir New Year’s Eve sparkle and sharing the celebration across the galaxy
  (and social media).\n\nVenue: The Colony\, 22 Rock City Rd\, Woodstock\, 
 NY\nDate &amp\; Time: Wednesday\, December 31\, 2025 — Doors 8:00 p.m. |
  Freek’s Garage 9:00 p.m. | Silver Spaceship 10:00 p.m.\nExperience: Liv
 e music\, festive countdown\, and dance-floor mayhem until late\nAttire: F
 estive\, fun\, and space-inspired — think metallics\, sequins\, and star
 light\n\nAbout Silver SpaceshipBorn in Woodstock\, Silver Spaceship has ea
 rned a reputation for turning every show — from clubs and festivals to p
 rivate celebrations — into a high-energy\, inclusive experience. Blendin
 g decades of funk\, pop\, and soul influences with radiant harmonies and i
 rresistible rhythm\, the band’s mission is simple: to make every crowd d
 ance\, sing\, and celebrate life together.\nAbout Freek’s GarageHailing 
 from the Hudson Valley\, Freek’s Garage brings hep-cat energy\, soulful 
 grooves\, and infectious enthusiasm — the perfect launchpad for a night 
 of cosmic celebration.\nAbout ColonyA Woodstock landmark since 1929\, Colo
 ny remains one of the Hudson Valley’s premier live-music destinations\, 
 pairing historic charm with state-of-the-art sound and lighting. Its livel
 y ballroom and warm community make it the ideal home for New Year’s Eve 
 revelry.
ATTACH;FMTTYPE=image/jpeg:https://kingstonhappenings.org/wp-content/upload
 s/2025/12/606128922_1356725199797571_2286303124818309003_n-e1767034419673.
 jpg
CATEGORIES:@Featured,@Newsletter,Festivals and major community
 events,Music,Nightlife and entertainment
LOCATION:Colony Woodstock NY\, 22 Rock City Rd\, Woodstock\, New York\, Uni
 ted States
GEO:42.0424924;-74.11799489999999
X-APPLE-STRUCTURED-LOCATION;VALUE=URI;X-ADDRESS=22 Rock City Rd\, Woodstock
 \, New York\, United States;X-APPLE-RADIUS=100;X-TITLE=Colony Woodstock NY
 :geo:42.0424924,-74.11799489999999
END:VEVENT
BEGIN:VTIMEZONE
TZID:America/New_York
X-LIC-LOCATION:America/New_York
BEGIN:STANDARD
DTSTART:20251102T010000
TZOFFSETFROM:-0400
TZOFFSETTO:-0500
TZNAME:EST
END:STANDARD
END:VTIMEZONE
END:VCALENDAR