BEGIN:VCALENDAR
VERSION:2.0
PRODID:-//wp-events-plugin.com//7.2.3.1//EN
TZID:America/New_York
X-WR-TIMEZONE:America/New_York
BEGIN:VEVENT
UID:153246@kingstonhappenings.org
DTSTART;TZID=America/New_York:20251231T200000
DTEND;TZID=America/New_York:20251231T200000
DTSTAMP:20251229T165020Z
URL:https://kingstonhappenings.org/events/250391/
SUMMARY:UNICORN BAR PRESENTS: A VERY DISCO NYE
DESCRIPTION:Ring in 2026 with glitter\, groove\, and a little bit of fire.\
 nWEDNESDAY\, DECEMBER 318PM - 1AM$20 EARLY BIRD (LIMITED)$25 ADV / $30 DOO
 RS\nShine your sequins and step into 2026 the Unicorn way!Join us for a fu
 ll-tilt disco celebration featuring:\nFEATURING:\n Unicorn Brass Band - 8
 :30PMOur very own brass brigade bringing that big\, bold\, queer New Year
 ’s energy.\n Lara Hope Band - 9:15PMYou know this local: roots\, rock '
 n roll\, retro flair\, and unstoppable stage presence\n DJ Tikka Masala -
  10:15PM-1AMServing disco\, house\, Bollywood\, global grooves\, and dance
 -floor liberation all night long.\nHOSTED BY TUNA MELT (King of Drag)\n A
 ERIAL &amp\; FIRE PERFORMANCES - Activations between 8:30-10PMPurple Produ
 ctions presents: &#xfe0f\;A dazzling New Year’s Eve spectacle featuring 
 Aerial enchantments by Goddess Purpleand Fire artistry by Sky Claudette of
  Eros Fyre.\nCome dressed in your disco-era best. Sequins\, chrome\, velve
 t\, glitter—anything that shines under a disco ball.\nLet’s start the 
 new year loudly\, proudly\, and together.
ATTACH;FMTTYPE=image/jpeg:https://kingstonhappenings.org/wp-content/upload
 s/2025/12/599005946_1480102074115884_8626433790319149922_n.jpg
CATEGORIES:@Featured,@Newsletter,Festivals and major community
 events,Music,Nightlife and entertainment
LOCATION:Unicorn Bar\, 224 Foxhall Ave.\, KINGSTON\, NY\, 12401\, United St
 ates
GEO:41.933684;-73.996845
X-APPLE-STRUCTURED-LOCATION;VALUE=URI;X-ADDRESS=224 Foxhall Ave.\, KINGSTON
 \, NY\, 12401\, United States;X-APPLE-RADIUS=100;X-TITLE=Unicorn Bar:geo:4
 1.933684,-73.996845
END:VEVENT
BEGIN:VTIMEZONE
TZID:America/New_York
X-LIC-LOCATION:America/New_York
BEGIN:STANDARD
DTSTART:20251102T010000
TZOFFSETFROM:-0400
TZOFFSETTO:-0500
TZNAME:EST
END:STANDARD
END:VTIMEZONE
END:VCALENDAR