BEGIN:VCALENDAR
VERSION:2.0
PRODID:-//wp-events-plugin.com//7.2.3.1//EN
TZID:America/New_York
X-WR-TIMEZONE:America/New_York
BEGIN:VEVENT
UID:153050@kingstonhappenings.org
DTSTART;TZID=America/New_York:20251210T190000
DTEND;TZID=America/New_York:20251210T190000
DTSTAMP:20251215T143950Z
URL:https://kingstonhappenings.org/events/250052/
SUMMARY:The Nest Sessions
DESCRIPTION:Hosted by Hudson Valley’s own Aubrey Haddard and Jose Lopez\,
  The Nest Sessions is more than just a jam—it’s a handpicked showcase 
 of some of the region’s most compelling original artists. Each session b
 egins with a curated set by the house band\, led by Haddard and Lopez\, fo
 llowed by spotlight performances from specially invited musical guests.\nW
 hile the night culminates in an open improvisational jam\, the heart of Th
 e Nest Sessions lies in its celebration of original music and intentional 
 curation. It's a gathering place for musicians to connect—and a golden o
 pportunity for music lovers to discover standout talent from the Hudson Va
 lley and beyond.\nThis month’s session features Dr.\nNO RESERVATIONS NEE
 DED // Dining 5:30-9pm.
ATTACH;FMTTYPE=image/jpeg:https://kingstonhappenings.org/wp-content/upload
 s/2025/12/578520858_1245677160927887_2382759376430538024_n.jpg
CATEGORIES:@Featured,@Newsletter,Music,Nightlife and entertainment
LOCATION:The Falcon\, 1348 Route 9W\, Marlboro\, NY\, United States
GEO:41.6061213;-73.97065420000001
X-APPLE-STRUCTURED-LOCATION;VALUE=URI;X-ADDRESS=1348 Route 9W\, Marlboro\, 
 NY\, United States;X-APPLE-RADIUS=100;X-TITLE=The Falcon:geo:41.6061213,-7
 3.97065420000001
END:VEVENT
BEGIN:VTIMEZONE
TZID:America/New_York
X-LIC-LOCATION:America/New_York
BEGIN:STANDARD
DTSTART:20251102T010000
TZOFFSETFROM:-0400
TZOFFSETTO:-0500
TZNAME:EST
END:STANDARD
END:VTIMEZONE
END:VCALENDAR