BEGIN:VCALENDAR
VERSION:2.0
PRODID:-//wp-events-plugin.com//7.2.3.1//EN
TZID:America/New_York
X-WR-TIMEZONE:America/New_York
BEGIN:VEVENT
UID:152809@kingstonhappenings.org
DTSTART;TZID=America/New_York:20251130T120000
DTEND;TZID=America/New_York:20251130T150000
DTSTAMP:20251201T140930Z
URL:https://kingstonhappenings.org/events/249778/
SUMMARY:Holiday on the Walkway
DESCRIPTION:Santa is making a special stop at the World’s Longest Elevate
 d Pedestrian Bridge and you’re invited to join the celebration! Thanks t
 o our friends at Chestnut Market\, we’ll be serving free cookies and hot
  chocolate to keep everyone feeling merry and bright.\nBring your kids\, y
 our dogs — the whole family — to Walkway Over the Hudson’s Ulster We
 lcome Center Plaza for a festive afternoon filled with seasonal music\, ca
 ndy canes\, and local holiday art. Visit with the Brays of Sunshine miniat
 ure donkeys\, enjoy a children’s craft area hosted by the Walkway Ambass
 adors\, and capture your own photos with Jolly Ol’ Saint Nick.\nPlease b
 ring a reusable mug to help us cut down on paper waste.\nThis community ev
 ent is free to attend and no RSVP is required.
ATTACH;FMTTYPE=image/jpeg:https://kingstonhappenings.org/wp-content/upload
 s/2025/11/577031815_1249917367173275_7935710919955707847_n.jpg
CATEGORIES:@Featured,@Newsletter,Community,Market
LOCATION:Walkway Over the Hudson\, 87 Haviland Rd.\, Highland \, New York\,
  12528\, United States
GEO:41.710477;-73.95506
X-APPLE-STRUCTURED-LOCATION;VALUE=URI;X-ADDRESS=87 Haviland Rd.\, Highland 
 \, New York\, 12528\, United States;X-APPLE-RADIUS=100;X-TITLE=Walkway Ove
 r the Hudson:geo:41.710477,-73.95506
END:VEVENT
BEGIN:VTIMEZONE
TZID:America/New_York
X-LIC-LOCATION:America/New_York
BEGIN:STANDARD
DTSTART:20251102T010000
TZOFFSETFROM:-0400
TZOFFSETTO:-0500
TZNAME:EST
END:STANDARD
END:VTIMEZONE
END:VCALENDAR