BEGIN:VCALENDAR
VERSION:2.0
PRODID:-//wp-events-plugin.com//7.2.3.1//EN
TZID:America/New_York
X-WR-TIMEZONE:America/New_York
BEGIN:VEVENT
UID:152402@kingstonhappenings.org
DTSTART;TZID=America/New_York:20251026T110000
DTEND;TZID=America/New_York:20251026T110000
DTSTAMP:20251027T132825Z
URL:https://kingstonhappenings.org/events/249013/
SUMMARY:Howl'O'Ween Photos at the SPCA
DESCRIPTION:Have your pet's Halloween photos taken by a professional photog
 rapher at the Ulster County SPCA! Your purchase of a ticket is a direct do
 nation towards the care of the abused\, neglected and homeless animals at 
 the Ulster County SPCA. Only $10 per photo shoot!
ATTACH;FMTTYPE=image/jpeg:https://kingstonhappenings.org/wp-content/upload
 s/2025/10/545649528_1241581384670754_108523281831640739_n.jpg
CATEGORIES:@Featured,@Newsletter,Community
LOCATION:Ulster County SPCA\, 20 Wiedy Rd.\, KINGSTON\, NY\, 12401\, United
  States
GEO:41.940486;-74.020219
X-APPLE-STRUCTURED-LOCATION;VALUE=URI;X-ADDRESS=20 Wiedy Rd.\, KINGSTON\, N
 Y\, 12401\, United States;X-APPLE-RADIUS=100;X-TITLE=Ulster County SPCA:ge
 o:41.940486,-74.020219
END:VEVENT
BEGIN:VTIMEZONE
TZID:America/New_York
X-LIC-LOCATION:America/New_York
BEGIN:DAYLIGHT
DTSTART:20250309T030000
TZOFFSETFROM:-0500
TZOFFSETTO:-0400
TZNAME:EDT
END:DAYLIGHT
END:VTIMEZONE
END:VCALENDAR