BEGIN:VCALENDAR
VERSION:2.0
PRODID:-//wp-events-plugin.com//7.2.3.1//EN
TZID:America/New_York
X-WR-TIMEZONE:America/New_York
BEGIN:VEVENT
UID:151995@kingstonhappenings.org
DTSTART;TZID=America/New_York:20250925T190000
DTEND;TZID=America/New_York:20250925T190000
DTSTAMP:20250922T145211Z
URL:https://kingstonhappenings.org/events/248343/
SUMMARY: CELEBRATING 40 YEARS OF Bob Shaut & SAX LIFE! 
DESCRIPTION:Join us for an unforgettable night honoring Bob Shaut &amp\; Sa
 x Life’s 40-year musical journey – and the release of TWO brand-new CD
 s!\n Date: Thursday\, September 25\, 2025 Time: 7 PM Location: The Loca
 l – 16 John St\, Saugerties\, NY 12477\nExpect a high-energy evening wit
 h past &amp\; present members of SaxLife sharing the music\, memories\, an
 d groove that have inspired the Hudson Valley for four decades. \n Ticke
 ts:$20 at the door | Discounted advance tickets available now at BridgeAr
 tsandEducation.org\n Don’t miss this one! Share this post\, tag your fr
 iends\, and let’s pack the house for Sax Life’s 40th anniversary!
ATTACH;FMTTYPE=image/jpeg:https://kingstonhappenings.org/wp-content/upload
 s/2025/09/545596260_1327775709247468_5668810367359104594_n.jpg
CATEGORIES:@Featured,@Newsletter,Music,Nightlife and entertainment
LOCATION:The Local Saugerties\, 16 John St. \, Saugerties\, NY\, 12477\, Un
 ited States
GEO:42.078608;-73.95155
X-APPLE-STRUCTURED-LOCATION;VALUE=URI;X-ADDRESS=16 John St. \, Saugerties\,
  NY\, 12477\, United States;X-APPLE-RADIUS=100;X-TITLE=The Local Saugertie
 s:geo:42.078608,-73.95155
END:VEVENT
BEGIN:VTIMEZONE
TZID:America/New_York
X-LIC-LOCATION:America/New_York
BEGIN:DAYLIGHT
DTSTART:20250309T030000
TZOFFSETFROM:-0500
TZOFFSETTO:-0400
TZNAME:EDT
END:DAYLIGHT
END:VTIMEZONE
END:VCALENDAR