BEGIN:VCALENDAR
VERSION:2.0
PRODID:-//wp-events-plugin.com//7.2.3.1//EN
TZID:America/New_York
X-WR-TIMEZONE:America/New_York
BEGIN:VEVENT
UID:151460@kingstonhappenings.org
DTSTART;TZID=America/New_York:20250817T190000
DTEND;TZID=America/New_York:20250817T190000
DTSTAMP:20250818T113609Z
URL:https://kingstonhappenings.org/events/247060/
SUMMARY:Devon Allman Blues Summit
DESCRIPTION:Join us for an unforgettable night of soul-stirring music at th
 e Devon Allman Blues Summit\, a powerhouse gathering of blues legends that
  promises to electrify the stage. Featuring DEVON ALLMAN at the helm\, thi
 s summit brings together an all-star lineup that includes the legendary JI
 MMY HALL of Wet Willie and Jeff Beck fame\, who is renowned for his fiery 
 harmonica and powerful vocals. Added to this magical evening is blues icon
  LARRY MCCRAY who is known for masterful guitar work and heartfelt stories
  that have resonated with fans worldwide. Complementing the summit’s lin
 e up is New Orleans’ very own soul sensation\, SIERRA GREEN\, whose ench
 anting voice encapsulates the heart and spirit of the Crescent City.\nToge
 ther\, this remarkable assembly of artists presents an epic evening that s
 pans the spectrum of blues – from its gritty roots\, through its evoluti
 on\, and into its vibrant future. Don’t miss this unique opportunity to 
 experience the raw energy and profound emotion of the Devon Allman Blues S
 ummit\, where extraordinary talent meets the timeless magic of blues and s
 oul.
ATTACH;FMTTYPE=image/jpeg:https://kingstonhappenings.org/wp-content/upload
 s/2025/08/492222923_1083342263837721_7318865403539185103_n.jpg
CATEGORIES:@Featured,@Newsletter,Festivals and major community
 events,Music,Nightlife and entertainment
LOCATION:Ulster Performing Arts Center (UPAC)\, 601 Broadway\, Kingston\, N
 ew York\, 12401\, United States
GEO:41.92931799999999;-74.004142
X-APPLE-STRUCTURED-LOCATION;VALUE=URI;X-ADDRESS=601 Broadway\, Kingston\, N
 ew York\, 12401\, United States;X-APPLE-RADIUS=100;X-TITLE=Ulster Performi
 ng Arts Center (UPAC):geo:41.92931799999999,-74.004142
END:VEVENT
BEGIN:VTIMEZONE
TZID:America/New_York
X-LIC-LOCATION:America/New_York
BEGIN:DAYLIGHT
DTSTART:20250309T030000
TZOFFSETFROM:-0500
TZOFFSETTO:-0400
TZNAME:EDT
END:DAYLIGHT
END:VTIMEZONE
END:VCALENDAR