BEGIN:VCALENDAR
VERSION:2.0
PRODID:-//wp-events-plugin.com//7.2.3.1//EN
TZID:America/New_York
X-WR-TIMEZONE:America/New_York
BEGIN:VEVENT
UID:154941@kingstonhappenings.org
DTSTART;TZID=America/New_York:20260128T173000
DTEND;TZID=America/New_York:20260128T193000
DTSTAMP:20260127T131507Z
URL:https://kingstonhappenings.org/events/2026-clean-power-guide-launch-ev
 ent/
SUMMARY:2026 Clean Power Guide Launch Event
DESCRIPTION:\nJoin us for the launch of the 2026 Clean Power Guide!\n\n\n\n
 Every year\, in collaboration with Chronogram Media\, we publish a consume
 r-empowering publication. This year's publication focuses on EVs and how t
 o electrify your home.\n\n\n\nWe’re launching this publication with a fr
 ee panel of experts who can coach homeowners on renewable technologies.\n\
 n\n\nThis event will be taking place on January 28th from 5:30-7:30pm at t
 he Fuller Building\, 45 Pine Grove Ave in Kingston.\n\n\nCome learn and ne
 twork\, enjoy free refreshments\, and abundant good ideas.\n\n\n\nTo RSVP:
  https://www.tickettailor.com/events/chronogrammedia/2007603\n
ATTACH;FMTTYPE=image/jpeg:https://kingstonhappenings.org/wp-content/upload
 s/2026/01/CPG-26_Poster-R-2-1-1.png
CATEGORIES:@Featured,@Newsletter,Community
LOCATION:Fuller Building\, 45 Pine Grove Ave\, Kingston \, New York\, 12401
 \, United States
GEO:41.926842;-74.00183340000001
X-APPLE-STRUCTURED-LOCATION;VALUE=URI;X-ADDRESS=45 Pine Grove Ave\, Kingsto
 n \, New York\, 12401\, United States;X-APPLE-RADIUS=100;X-TITLE=Fuller Bu
 ilding:geo:41.926842,-74.00183340000001
END:VEVENT
BEGIN:VTIMEZONE
TZID:America/New_York
X-LIC-LOCATION:America/New_York
BEGIN:STANDARD
DTSTART:20251102T010000
TZOFFSETFROM:-0400
TZOFFSETTO:-0500
TZNAME:EST
END:STANDARD
END:VTIMEZONE
END:VCALENDAR