BEGIN:VCALENDAR
VERSION:2.0
PRODID:-//wp-events-plugin.com//7.2.3.1//EN
TZID:America/New_York
X-WR-TIMEZONE:America/New_York
BEGIN:VEVENT
UID:151682@kingstonhappenings.org
DTSTART;TZID=America/New_York:20251005T120000
DTEND;TZID=America/New_York:20251005T180000
DTSTAMP:20250901T212051Z
URL:https://kingstonhappenings.org/events/2-great-causes-under-one-woof/
SUMMARY:2 Great Causes Under One “Woof”
DESCRIPTION:LIVE MUSIC ALL DAY\n\n207 MARKET STREET SAUGERTIES NY\n\nOVER 3
 5 VENDORS / CRAFTERS /ARTISTS/AUTHORS &amp\; MORE\n\nFOOD/ BAKED GOODS/ HA
 IR TINSEL/ TEMPORARY TATTOOS &amp\; MORE\n\nFUNDRAISER FOR TINA DECICCO SM
 ITH\n\n&nbsp\;
CATEGORIES:@Featured,Festivals and major community events
LOCATION:Saugerties\, NY\, 1 Main St\, Saugerties\, NY\, 12401\, United Sta
 tes
GEO:42.080915;-73.944363
X-APPLE-STRUCTURED-LOCATION;VALUE=URI;X-ADDRESS=1 Main St\, Saugerties\, NY
 \, 12401\, United States;X-APPLE-RADIUS=100;X-TITLE=Saugerties\, NY:geo:42
 .080915,-73.944363
END:VEVENT
BEGIN:VTIMEZONE
TZID:America/New_York
X-LIC-LOCATION:America/New_York
BEGIN:DAYLIGHT
DTSTART:20250309T030000
TZOFFSETFROM:-0500
TZOFFSETTO:-0400
TZNAME:EDT
END:DAYLIGHT
END:VTIMEZONE
END:VCALENDAR